BEGIN:VCALENDAR
VERSION:2.0
PRODID:-//ChamberMaster//Event Calendar 2.0//EN
METHOD:PUBLISH
X-PUBLISHED-TTL:P3D
REFRESH-INTERVAL:P3D
CALSCALE:GREGORIAN
BEGIN:VEVENT
DTSTART:20170619T013000Z
DTEND:20170619T033000Z
X-MICROSOFT-CDO-ALLDAYEVENT:FALSE
SUMMARY:Dana Wharf Fathers Day Live Music Cruise
DESCRIPTION:Come aboard the Dana Pride for our special Father's Day Dinner Cruise. Enjoy a unique evening of fun on the water\, complete with live music and a delicious barbecue dinner! Listen to the live classic rock and roll of Mike Obryan\, frequently found playing at Hennessy's and other local venues in the Laguna Beach nightlife scene. On our Father's Day dinner cruise you will enjoy: Indoor and upper deck seating Full barbecue dinner Full cash bar Views of pristine Laguna Beach Beautiful California sunset Come aboard our 95 foot flagship\, the Dana Pride\, and have a one of a kind evening experience! And come hungry - this cruise is 2 hours long\, and the perfect way for families to celebrate their dads with a delicious buffet barbecue meal!
X-ALT-DESC;FMTTYPE=text/html:Come aboard the Dana Pride for our special Father&#39\;s Day Dinner Cruise. Enjoy a unique evening of fun on the water\, complete with live music and a delicious barbecue dinner! Listen to the live classic rock and roll of Mike Obryan\, frequently found playing at Hennessy&#39\;s and other local venues in the Laguna Beach nightlife scene. On our Father&#39\;s Day dinner cruise you will enjoy: Indoor and upper deck seating Full barbecue dinner Full cash bar Views of pristine Laguna Beach Beautiful California sunset Come aboard our 95 foot flagship\, the Dana Pride\, and have a one of a kind evening experience! And come hungry - this cruise is 2 hours long\, and the perfect way for families to celebrate their dads with a delicious buffet barbecue meal!
LOCATION:Dana Wharf 34675 Golden Lantern Dana Point\, CA 92629
UID:e.2189.5684
SEQUENCE:3
DTSTAMP:20260425T122350Z
URL:https://business.danapointchamber.com/events/details/dana-wharf-fathers-day-live-music-cruise-5684
END:VEVENT

END:VCALENDAR
