BEGIN:VCALENDAR
VERSION:2.0
PRODID:-//ChamberMaster//Event Calendar 2.0//EN
METHOD:PUBLISH
X-PUBLISHED-TTL:P3D
REFRESH-INTERVAL:P3D
CALSCALE:GREGORIAN
BEGIN:VEVENT
DTSTART:20161029T000000Z
DTEND:20161029T020000Z
X-MICROSOFT-CDO-ALLDAYEVENT:FALSE
SUMMARY:Dana Wharf Kids Halloween Boo Cruise
DESCRIPTION:Join us for a haunted 20 minute harbor cruise! Wear your favorite costume! Trips leave every 20 minutes. $5 per person. 1 and under are free. Friday October 28th from 5pm to 7pm. Proceeds to benefit Community Autism Now. Costume contest on every cruise . More information please call: (949) 496-5794
X-ALT-DESC;FMTTYPE=text/html:Join us for a haunted 20 minute harbor cruise! Wear your favorite costume! Trips leave every 20 minutes. $5 per person. 1 and under are free. Friday October 28th from 5pm to 7pm. Proceeds to benefit Community Autism Now. Costume contest on every cruise . More information please call: (949) 496-5794
LOCATION:Dana Wharf Sportfishing and Whale Watching 34675 Golden Lantern Dana Point CA 92629 Vessel: Sum Fun (Dock #3)
UID:e.2189.4908
SEQUENCE:3
DTSTAMP:20260426T003610Z
URL:https://business.danapointchamber.com/events/details/dana-wharf-kids-halloween-boo-cruise-4908
END:VEVENT

END:VCALENDAR
