BEGIN:VCALENDAR
VERSION:2.0
PRODID:-//ChamberMaster//Event Calendar 2.0//EN
METHOD:PUBLISH
X-PUBLISHED-TTL:P3D
REFRESH-INTERVAL:P3D
CALSCALE:GREGORIAN
BEGIN:VEVENT
DTSTART:20161009T030000Z
DTEND:20161009T043000Z
X-MICROSOFT-CDO-ALLDAYEVENT:FALSE
SUMMARY:Dana Wharf Live Music Cruise
DESCRIPTION:Live Music Cruise breezes into town in MAY! Are you ready to party with Dana Wharf!? Cruise aboard the 95-foot Dana Pride which has upper deck seating as well as inside seating in its large galley\, making it one of the most comfortable rides on the water. The boat also features a full bar including wine\, beer (domestic and imported)\, and mixed drinks. Sit back\, relax and enjoy the live music as we cruise through Dana Point Harbor at sunset. You'll be welcomed aboard with a complimentary glass of Dana Pride Punch! BUY TICKETS Saturdays through mid October 8:00 pm - 9:30 pm\; $22 per person - Includes 1 Complimentary Pride Punch!
X-ALT-DESC;FMTTYPE=text/html:Live Music Cruise breezes into town in MAY! Are you ready to party with Dana Wharf!? Cruise aboard the 95-foot Dana Pride which has upper deck seating as well as inside seating in its large galley\, making it one of the most comfortable rides on the water. The boat also features a full bar including wine\, beer (domestic and imported)\, and mixed drinks. Sit back\, relax and enjoy the live music as we cruise through Dana Point Harbor at sunset. You'll be welcomed aboard with a complimentary glass of Dana Pride Punch! BUY TICKETS Saturdays through mid October 8:00 pm - 9:30 pm\; $22 per person - Includes 1 Complimentary Pride Punch!
LOCATION:Dana Wharf Sportfishing and Whale Watching 34675 Golden Lantern Dana Point\, CA 92629
UID:e.2189.4768
SEQUENCE:3
DTSTAMP:20260426T020611Z
URL:https://business.danapointchamber.com/events/details/dana-wharf-live-music-cruise-10-08-2016-4768
END:VEVENT

END:VCALENDAR
