BEGIN:VCALENDAR
VERSION:2.0
PRODID:-//ChamberMaster//Event Calendar 2.0//EN
METHOD:PUBLISH
X-PUBLISHED-TTL:P3D
REFRESH-INTERVAL:P3D
CALSCALE:GREGORIAN
BEGIN:VEVENT
DTSTART:20151017T200000Z
DTEND:20151017T230000Z
X-MICROSOFT-CDO-ALLDAYEVENT:FALSE
SUMMARY:Del Prado- ART WALK
DESCRIPTION:In Celebration of the Dana Point Arts and Culture Commission's Art's Humanities Month. Enjoy local artwork from over 40 artist and live music paired with special offerings at businesses located along Del Prado.
X-ALT-DESC;FMTTYPE=text/html:In Celebration of the Dana Point Arts and Culture Commission&#39\;s Art&#39\;s Humanities Month. Enjoy local artwork from over 40 artist and live music paired with special offerings at businesses located along Del Prado.
LOCATION:On the streets of Del Prado\, Dana Point\,Ca
UID:e.2189.4055
SEQUENCE:3
DTSTAMP:20260421T030440Z
URL:https://business.danapointchamber.com/events/details/del-prado-art-walk-10-17-2015-4055
END:VEVENT

END:VCALENDAR
