BEGIN:VCALENDAR
VERSION:2.0
PRODID:-//ChamberMaster//Event Calendar 2.0//EN
METHOD:PUBLISH
X-PUBLISHED-TTL:P3D
REFRESH-INTERVAL:P3D
CALSCALE:GREGORIAN
BEGIN:VEVENT
DTSTART:20260108T180000Z
DTEND:20260108T200000Z
X-MICROSOFT-CDO-ALLDAYEVENT:FALSE
SUMMARY:Doheny Art Intuition Series
DESCRIPTION:In this outdoor art workshop\, you'll create a one-of-a-kind 2026 calendar through intuitive drawing and painting. Using guided prompts and a variety of materials pens\, paints\, and markers you'll design twelve small works of art\, one for each month of the year. Each piece will capture the moods\, colors\, and moments that feel meaningful to you\, becoming a visual journey through time and self-expression.\n\n\n\nThursday\, January 8 (10:30am - 12:00pm)\n\nCost per person: $45 (which includes all supplies\, water\, and nourishing snacks\; does not include parking)\n\nStart the year with a morning of pause\, play\, and reconnect with your creativity in community. No art experience necessary just curiosity and a willingness to explore.\n\nIn this workshop\, you will leave with:\n\n  A beautifully hand-drawn and painted 2026 calendar featuring your own art\n\n  A birchwood stand to display your calendar on your desk or shelf\n\n  A renewed sense of creative confidence and inspiration for the year ahead\n\n  Connection with like-hearted locals in a relaxed\, inspiring setting\n\nYou'll leave with drawings that reflect your unique perspective and a renewed sense of creative confidence.\n\nIncludes tea and nourishing snacks. All materials provided. No experience needed just curiosity. This class is held outdoors. Please bring a blanket\, towel\, hat or anything you might want.\n\n\n\nPurchase Tickets
X-ALT-DESC;FMTTYPE=text/html:<p data-rte-preserve-empty="true" style="box-sizing: border-box\; margin: 0px 0px 10px\; padding: 0px\; border: none\; outline: none\; position: relative\; line-height: 1.8em\; color: rgb(37\, 41\, 47)\; font-family: Roboto\, sans-serif\; font-size: 14px\;"><span style="font-size:18px\;"><span style="font-family:verdana\;"><span style="color: rgb(0\, 0\, 0)\; letter-spacing: 0.176756px\; white-space-collapse: preserve\;">In this outdoor art workshop\, you&rsquo\;ll create a one-of-a-kind 2026 calendar through intuitive drawing and painting. Using guided prompts and a variety of materials&mdash\;pens\, paints\, and markers&mdash\;you&rsquo\;ll design twelve small works of art\, one for each month of the year. Each piece will capture the moods\, colors\, and moments that feel meaningful to you\, becoming a visual journey through time and self-expression.</span><br />\n<br />\n<strong>Thursday\, January 8 (10:30am - 12:00pm)</strong><br />\nCost per person: $45 (which includes all supplies\, water\, and nourishing snacks\; <span style="font-weight: 700\;"><em>does not</em></span> include parking)</span></span></p>\n\n<p data-rte-preserve-empty="true" style="box-sizing: border-box\; margin: 0px 0px 10px\; padding: 0px\; border: none\; outline: none\; position: relative\; line-height: 1.8em\; color: rgb(37\, 41\, 47)\; font-family: Roboto\, sans-serif\; font-size: 14px\;"><span style="font-size:18px\;"><span style="font-family:verdana\;"><span style="color: rgb(0\, 0\, 0)\; letter-spacing: 0.176756px\; white-space-collapse: preserve\;">Start the year with a morning of pause\, play\, and reconnect with your creativity in community. No art experience necessary&mdash\;just curiosity and a willingness to explore.</span></span></span></p>\n\n<p data-rte-preserve-empty="true" style="box-sizing: border-box\; margin: 0px 0px 10px\; padding: 0px\; border: none\; outline: none\; position: relative\; line-height: 1.8em\; color: rgb(37\, 41\, 47)\; font-family: Roboto\, sans-serif\; font-size: 14px\;"><span style="font-size:18px\;"><span style="font-family:verdana\;"><span style="color:#000000\;"><strong>In this workshop\, you will leave with:</strong><br style="box-sizing: border-box\; margin: 0px\; padding: 0px\; border: none\; outline: none\;" />\n&ndash\; </span>A beautifully hand-drawn and painted 2026 calendar featuring your own art<br style="box-sizing: border-box\; margin: 0px\; padding: 0px\; border: none\; outline: none\;" />\n<span style="color:#000000\;">&ndash\; </span>A birchwood stand to display your calendar on your desk or shelf<br style="box-sizing: border-box\; margin: 0px\; padding: 0px\; border: none\; outline: none\;" />\n<span style="color:#000000\;">&ndash\;&nbsp\;</span>A renewed sense of creative confidence and inspiration for the year ahead<br style="box-sizing: border-box\; margin: 0px\; padding: 0px\; border: none\; outline: none\;" />\n<span style="color:#000000\;">&ndash\; </span>Connection with like-hearted locals in a relaxed\, inspiring setting</span></span></p>\n\n<p data-rte-preserve-empty="true" style="box-sizing: border-box\; margin: 0px 0px 10px\; padding: 0px\; border: none\; outline: none\; position: relative\; line-height: 1.8em\; color: rgb(37\, 41\, 47)\; font-family: Roboto\, sans-serif\; font-size: 14px\;"><span style="font-size:18px\;"><span style="font-family:verdana\;"><span style="color:#000000\;">You&rsquo\;ll leave with drawings that reflect your unique perspective and a renewed sense of creative confidence.</span></span></span></p>\n\n<p data-rte-preserve-empty="true" style="box-sizing: border-box\; margin: 0px 0px 10px\; padding: 0px\; border: none\; outline: none\; position: relative\; line-height: 1.8em\; color: rgb(37\, 41\, 47)\; font-family: Roboto\, sans-serif\; font-size: 14px\;"><span style="font-size:18px\;"><span style="font-family:verdana\;"><span style="color:#000000\;">Includes tea and nourishing snacks. All materials provided. No experience needed&mdash\;just curiosity.</span></span><span style="color:#000000\;">&nbsp\;</span><span style="font-family:verdana\;"><span style="font-weight: 700\; color: rgb(0\, 0\, 0)\; letter-spacing: 0.176756px\; white-space-collapse: preserve\;">This class is held outdoors. </span><span style="color: rgb(0\, 0\, 0)\; letter-spacing: 0.176756px\; white-space-collapse: preserve\;">Please bring a blanket\, towel\, hat or anything you might want.</span><br />\n<br />\n<span style="color:#000000\;"><a href="https://www.kacielynmartinez.com/shop-now/p/doheny-calendar-workshop-jan-8"><strong>Purchase Tickets</strong></a></span></span></span></p>\n
LOCATION:Doheny State Beach Picnic Area B
UID:e.2189.16190
SEQUENCE:3
DTSTAMP:20260422T152335Z
URL:https://business.danapointchamber.com/events/details/doheny-art-intuition-series-16190
END:VEVENT

END:VCALENDAR
