BEGIN:VCALENDAR
VERSION:2.0
PRODID:-//ChamberMaster//Event Calendar 2.0//EN
METHOD:PUBLISH
X-PUBLISHED-TTL:P3D
REFRESH-INTERVAL:P3D
CALSCALE:GREGORIAN
BEGIN:VEVENT
DTSTART:20151025T013000Z
DTEND:20151025T033000Z
X-MICROSOFT-CDO-ALLDAYEVENT:FALSE
SUMMARY:Doheny Halloween Haunt
DESCRIPTION:Doheny Halloween Haunt\, Educational Booths\,Spooky Walk\, Face Painting and Crafts\, Carnival Games\, and yummy food available to purchase.
X-ALT-DESC;FMTTYPE=text/html:Doheny Halloween Haunt\, Educational Booths\,Spooky Walk\, Face Painting and Crafts\, Carnival Games\, and yummy food available to purchase.
LOCATION:Doheny Boneyard Cafe\, 25300 Dana Point Harbor Dr. Dana Point\, Ca 92629 Area A & B
UID:e.2189.4064
SEQUENCE:3
DTSTAMP:20260420T232608Z
URL:https://business.danapointchamber.com/events/details/doheny-halloween-haunt-10-24-2015-4064
END:VEVENT

END:VCALENDAR
