BEGIN:VCALENDAR
VERSION:2.0
PRODID:-//ChamberMaster//Event Calendar 2.0//EN
METHOD:PUBLISH
X-PUBLISHED-TTL:P3D
REFRESH-INTERVAL:P3D
CALSCALE:GREGORIAN
BEGIN:VEVENT
DTSTART:20150814T000000Z
DTEND:20150814T020000Z
X-MICROSOFT-CDO-ALLDAYEVENT:FALSE
SUMMARY:Doheny Village Plan Commnity Open House
DESCRIPTION:The City of Dana Point is holding a community open house for all interested in the progress of Doheny Village Plan.  \n\n\n\nThe City has engaged the firm of Opticos Design\, Inc\, to assist in finalizing the land use plan and developing new zoning code to guide future development in the area. The open house is intended to introduce Opticos to the community\, provide an introduction to the type of zoning code intended for the area (based code)\, and identify the next stages leading toward completion of the plan.
X-ALT-DESC;FMTTYPE=text/html:The City of Dana Point is holding a community open house for all interested in&nbsp\;the progress of Doheny Village Plan.&nbsp\;&nbsp\;<br />\n<br />\nThe City has engaged the firm of Opticos Design\, Inc\,&nbsp\;to assist in finalizing the land use plan and developing new zoning code to guide future development in the area. The open house is intended to introduce Opticos to the community\, provide an introduction to the type of zoning code intended for the area (based code)\, and identify the next stages leading toward completion of the plan.
LOCATION:Capo Beach Church 2595 Domingo Ave. Dana Point\, CA 92624
UID:e.2189.3796
SEQUENCE:3
DTSTAMP:20260424T203633Z
URL:https://business.danapointchamber.com/events/details/doheny-village-plan-commnity-open-house-08-13-2015-3796
END:VEVENT

END:VCALENDAR
