BEGIN:VCALENDAR
VERSION:2.0
PRODID:-//ChamberMaster//Event Calendar 2.0//EN
METHOD:PUBLISH
X-PUBLISHED-TTL:P3D
REFRESH-INTERVAL:P3D
CALSCALE:GREGORIAN
BEGIN:VEVENT
DTSTART:20150623T010000Z
DTEND:20150623T030000Z
X-MICROSOFT-CDO-ALLDAYEVENT:FALSE
SUMMARY:DP Planning Commission Meeting
DESCRIPTION:The Dana Point Planning Commission is a decision-making body tasked with reviewing matters related to planning and development in the City.
X-ALT-DESC;FMTTYPE=text/html:The Dana Point Planning Commission is a decision-making body tasked with reviewing matters related to planning and development in the City.
LOCATION:DP City Hall 33282 Golden Lantern Street Dana Point\, CA 92629
UID:e.2189.2608
SEQUENCE:3
DTSTAMP:20260424T085559Z
URL:https://business.danapointchamber.com/events/details/dp-planning-commission-meeting-06-22-2015-2608
END:VEVENT

END:VCALENDAR
