BEGIN:VCALENDAR
VERSION:2.0
PRODID:-//ChamberMaster//Event Calendar 2.0//EN
METHOD:PUBLISH
X-PUBLISHED-TTL:P3D
REFRESH-INTERVAL:P3D
CALSCALE:GREGORIAN
BEGIN:VEVENT
DTSTART:20150428T010000Z
DTEND:20150428T030000Z
X-MICROSOFT-CDO-ALLDAYEVENT:FALSE
SUMMARY:DP Planning Commission Mtg
DESCRIPTION:The Dana Point Planning Commission is a decision-making body tasked with reviewing matters related to planning and development in the City.
X-ALT-DESC;FMTTYPE=text/html:<span style="font-size: 14px\; line-height: 22.3999996185303px\;">The Dana Point Planning Commission is a decision-making body tasked with reviewing matters related to planning and development in the City.</span><br />\n&nbsp\;&nbsp\;&nbsp\;&nbsp\;
LOCATION:Dana Point City Hall 33282 Golden Lantern St. Dana Point\, CA 92629
UID:e.2189.2446
SEQUENCE:3
DTSTAMP:20260425T003006Z
URL:https://business.danapointchamber.com/events/details/dp-planning-commission-mtg-04-27-2015-2446
END:VEVENT

END:VCALENDAR
