BEGIN:VCALENDAR
VERSION:2.0
PRODID:-//ChamberMaster//Event Calendar 2.0//EN
METHOD:PUBLISH
X-PUBLISHED-TTL:P3D
REFRESH-INTERVAL:P3D
CALSCALE:GREGORIAN
BEGIN:VEVENT
DTSTART:20161112T200000Z
DTEND:20161113T050000Z
X-MICROSOFT-CDO-ALLDAYEVENT:FALSE
SUMMARY:Driftwood Country Music Festival
DESCRIPTION:Driftwood at Doheny State Beach is an afternoon of country music\, craft beer\, artisan wine and top notch BBQ.  Festival attendees will roam throughout the lush grass areas of Doheny State Beach\, right off the shore of the Pacific Ocean\, touching the sand.\n\n\n\nPlaying host to several California wineries and breweries\, festival-goers show up early to receive their complimentary Drfitwood tasting glass to enjoy unlimited complimentary tastings from 1pm -4pm.
X-ALT-DESC;FMTTYPE=text/html:Driftwood at Doheny State Beach is an afternoon of country music\, craft beer\, artisan wine and top notch BBQ. &nbsp\;Festival attendees will roam throughout the lush grass areas of Doheny State Beach\, right off the shore of the Pacific Ocean\, touching the sand.<br />\n<br />\nPlaying host to several California wineries and breweries\, festival-goers show up early to receive their complimentary Drfitwood tasting glass to enjoy unlimited complimentary tastings from 1pm -4pm.&nbsp\;<br />\n<br />\n<br />\n<br />\n&nbsp\;
LOCATION:Doheny State Beach 25300 Dana Point Harbor Dr Dana Point\, CA 92629
UID:e.2189.4923
SEQUENCE:3
DTSTAMP:20260425T230121Z
URL:https://business.danapointchamber.com/events/details/driftwood-country-music-festival-4923
END:VEVENT

END:VCALENDAR
