BEGIN:VCALENDAR
VERSION:2.0
PRODID:-//ChamberMaster//Event Calendar 2.0//EN
METHOD:PUBLISH
X-PUBLISHED-TTL:P3D
REFRESH-INTERVAL:P3D
CALSCALE:GREGORIAN
BEGIN:VEVENT
DTSTART:20180331T160000Z
DTEND:20180331T180000Z
X-MICROSOFT-CDO-ALLDAYEVENT:FALSE
SUMMARY:Egg Hunt @ Pines and Sea Canyon Parks
DESCRIPTION:This event is open to children "up to 10 years of age". The start time is 9:00 a.m.\, the Egg Hunt begins promptly at 10:00 a.m. Please bring your own basket!
X-ALT-DESC;FMTTYPE=text/html:<span style="font-size:14px\;">This event is open to children &quot\;up to 10 years of age&quot\;. The start time is 9:00 a.m.\, the Egg Hunt begins promptly at 10:00 a.m. Please bring your own basket!</span>
LOCATION:You have a choice of two locations: Pines Park at 34941 Camino Capistrano\, Capistrano Beach\, CA and Sea Canyon Park at 33093 Santiago Dr.\, Dana Point\, CA
UID:e.2189.7050
SEQUENCE:3
DTSTAMP:20260424T233045Z
URL:https://business.danapointchamber.com/events/details/egg-hunt-pines-and-sea-canyon-parks-7050
END:VEVENT

END:VCALENDAR
