BEGIN:VCALENDAR
VERSION:2.0
PRODID:-//ChamberMaster//Event Calendar 2.0//EN
METHOD:PUBLISH
X-PUBLISHED-TTL:P3D
REFRESH-INTERVAL:P3D
CALSCALE:GREGORIAN
BEGIN:VEVENT
DTSTART:20160624T013000Z
DTEND:20160624T043000Z
X-MICROSOFT-CDO-ALLDAYEVENT:FALSE
SUMMARY:Enoch Arden Musical Performance
DESCRIPTION:Be swept away by an evening of music and storytelling with the magical Richard Strauss setting of Alfred Lord Tennyson's poignant narrative poem\, Enoch Arden\, for piano and narrator.  Join us for a very special performance beneath GraySea\, our juvenile Gray Whale skeleton inside Samueli Hall.  The Ocean Institute is the perfect setting for this tale about Enoch Arden\, a fisherman turned merchant sailor who sailed into misfortune.
X-ALT-DESC;FMTTYPE=text/html:Be swept away by an evening of music and storytelling with the magical Richard Strauss setting of Alfred Lord Tennyson&#39\;s poignant narrative poem\, <em>Enoch Arden</em>\, for piano and narrator. &nbsp\;Join us for a very special performance beneath GraySea\, our juvenile Gray Whale skeleton inside Samueli Hall. &nbsp\;The Ocean Institute is the perfect setting for this tale about Enoch Arden\, a fisherman turned merchant sailor who sailed into misfortune. &nbsp\;&nbsp\;
LOCATION:Ocean Institute 24200 Dana Point Harbor Dr Dana Point\, CA 92629
UID:e.2189.4744
SEQUENCE:3
DTSTAMP:20260421T205222Z
URL:https://business.danapointchamber.com/events/details/enoch-arden-musical-performance-06-23-2016-4744
END:VEVENT

END:VCALENDAR
