BEGIN:VCALENDAR
VERSION:2.0
PRODID:-//ChamberMaster//Event Calendar 2.0//EN
METHOD:PUBLISH
X-PUBLISHED-TTL:P3D
REFRESH-INTERVAL:P3D
CALSCALE:GREGORIAN
BEGIN:VEVENT
DTSTART:20160812T010000Z
DTEND:20160812T030000Z
X-MICROSOFT-CDO-ALLDAYEVENT:FALSE
SUMMARY:Family Science Night- Animal Adventures
DESCRIPTION:Join the Ocean Institute and Adventures in Living Science for a night filled with snakes\, lizards\, and more! Learn about our local terrestrial ecology and maybe pet a snake or two!
X-ALT-DESC;FMTTYPE=text/html:<span style="font-size:16px\;"><span style="font-family:arial\;"><span style="color: rgb(33\, 33\, 33)\; line-height: normal\;">Join the Ocean Institute and Adventures in Living Science for a night filled with snakes\, lizards\, and more! Learn about our local terrestrial ecology and maybe pet a snake or two!&nbsp\;</span></span></span>
LOCATION:Ocean Institute 24200 Dana Point Harbor Dr Dana Point\, CA 92629
UID:e.2189.4864
SEQUENCE:3
DTSTAMP:20260426T032946Z
URL:https://business.danapointchamber.com/events/details/family-science-night-animal-adventures-08-11-2016-4864
END:VEVENT

END:VCALENDAR
