BEGIN:VCALENDAR
VERSION:2.0
PRODID:-//ChamberMaster//Event Calendar 2.0//EN
METHOD:PUBLISH
X-PUBLISHED-TTL:P3D
REFRESH-INTERVAL:P3D
CALSCALE:GREGORIAN
BEGIN:VEVENT
DTSTART:20160620T013000Z
DTEND:20160620T033000Z
X-MICROSOFT-CDO-ALLDAYEVENT:FALSE
SUMMARY:Father's Day Dinner Cruise
DESCRIPTION:Spend a day on the water with DAD!  Enjoy a 2 hour Coastline Cruise on the 95' Dana Pride\, live class rock & roll\, and a delicious BBQ buffet with dessert and non-alcoholic drinks included.  A full cash bar will be available.  Reserve your spot today!
X-ALT-DESC;FMTTYPE=text/html:Spend a day on the water with DAD! &nbsp\;Enjoy a 2 hour Coastline Cruise on the 95&#39\; Dana Pride\, live class rock &amp\; roll\, and a delicious BBQ buffet with dessert and non-alcoholic drinks included. &nbsp\;A full cash bar will be available. &nbsp\;Reserve your spot today!&nbsp\;
LOCATION:Dana Wharf Sportfishing & Whale Watching 34675 Golden Lantern Dana Point\, CA 92629
UID:e.2189.4799
SEQUENCE:3
DTSTAMP:20260420T020053Z
URL:https://business.danapointchamber.com/events/details/father-s-day-dinner-cruise-06-19-2016-4799
END:VEVENT

END:VCALENDAR
