BEGIN:VCALENDAR
VERSION:2.0
PRODID:-//ChamberMaster//Event Calendar 2.0//EN
METHOD:PUBLISH
X-PUBLISHED-TTL:P3D
REFRESH-INTERVAL:P3D
CALSCALE:GREGORIAN
BEGIN:VEVENT
DTSTART:20150622T013000Z
DTEND:20150622T033000Z
X-MICROSOFT-CDO-ALLDAYEVENT:FALSE
SUMMARY:Father's Day Dinner Cruise
DESCRIPTION:Come aboard the Dana Pride for our special Father?s Day Dinner Cruise. 2 hour Coastline Cruise on the 95' Dana Pride Live Classic Rock & Roll with Mike O?Bryan Delicious BBQ Buffet\, Dessert and non-alcoholic Drinks included
X-ALT-DESC;FMTTYPE=text/html:Come aboard the Dana Pride for our special Father?s Day Dinner Cruise. 2 hour Coastline Cruise on the 95&#39\; Dana Pride Live Classic Rock &amp\; Roll with Mike O?Bryan Delicious BBQ Buffet\, Dessert and non-alcoholic Drinks included
LOCATION:Dana Wharf Sportfishing and Whale Watching
UID:e.2189.2903
SEQUENCE:3
DTSTAMP:20260422T162508Z
URL:https://business.danapointchamber.com/events/details/father-s-day-dinner-cruise-06-21-2015-2903
END:VEVENT

END:VCALENDAR
