BEGIN:VCALENDAR
VERSION:2.0
PRODID:-//ChamberMaster//Event Calendar 2.0//EN
METHOD:PUBLISH
X-PUBLISHED-TTL:P3D
REFRESH-INTERVAL:P3D
CALSCALE:GREGORIAN
BEGIN:VEVENT
DTSTART:20180311T190000Z
DTEND:20180312T000000Z
X-MICROSOFT-CDO-ALLDAYEVENT:FALSE
SUMMARY:Festival of Whales Concert
DESCRIPTION:Concert on the Water Noon-5 PM   In honor of the whales migrating by Dana Point Headlands "singing their song" the Festival of Whales festivities will include a FREE outdoor concert at Baby Beach with bands performing on the water atop a specially designed floating stage. The concert will feature three bands\, with music starting at noon and going until 5 p.m.\n\nNoon-1 PM                        Anesha Rose & Midnight Whiskey\n\n1:30 PM-3 PM                   The Trip\n\n3:30 PM-5 PM                   The PettyBreakers\n\n \n\nBring your low back beach chairs or blankets and enjoy an afternoon of great music! Delicious BBQ favorites will be available along with a Spirits Garden for adults 21+\, with valid driver's license.
X-ALT-DESC;FMTTYPE=text/html:<p style="margin: 0px 0px 20px\; font-family: helvetica\, arial\, verdana\, sans-serif\; font-size: 14px\; line-height: 1.5em\; background-color: rgb(252\, 252\, 252)\;"><strong>Concert on the Water Noon-5 PM</strong>&nbsp\;&ndash\; In honor of the whales migrating by Dana Point Headlands &ldquo\;singing their song&rdquo\; the Festival of Whales festivities will include a FREE outdoor concert at Baby Beach with bands performing on the water atop a specially designed floating stage. The concert will feature three bands\, with music starting at noon and going until 5 p.m.</p>\n\n<p style="margin: 0px 0px 20px\; font-family: helvetica\, arial\, verdana\, sans-serif\; font-size: 14px\; line-height: 1.5em\; background-color: rgb(252\, 252\, 252)\;"><span data-term="goog_347096466">Noon-1 PM</span>&nbsp\; &nbsp\; &nbsp\; &nbsp\; &nbsp\; &nbsp\; &nbsp\; &nbsp\; &nbsp\; &nbsp\; &nbsp\; &nbsp\; Anesha Rose &amp\; Midnight Whiskey</p>\n\n<p style="margin: 0px 0px 20px\; font-family: helvetica\, arial\, verdana\, sans-serif\; font-size: 14px\; line-height: 1.5em\; background-color: rgb(252\, 252\, 252)\;"><span data-term="goog_347096467">1:30 PM-3 PM</span>&nbsp\; &nbsp\; &nbsp\; &nbsp\; &nbsp\; &nbsp\; &nbsp\; &nbsp\; &nbsp\; &nbsp\;The Trip</p>\n\n<p style="margin: 0px 0px 20px\; font-family: helvetica\, arial\, verdana\, sans-serif\; font-size: 14px\; line-height: 1.5em\; background-color: rgb(252\, 252\, 252)\;"><span data-term="goog_347096468">3:30 PM-5 PM</span>&nbsp\; &nbsp\; &nbsp\; &nbsp\; &nbsp\; &nbsp\; &nbsp\; &nbsp\; &nbsp\; &nbsp\;The PettyBreakers</p>\n\n<p style="margin: 0px 0px 20px\; font-family: helvetica\, arial\, verdana\, sans-serif\; font-size: 14px\; line-height: 1.5em\; background-color: rgb(252\, 252\, 252)\;">&nbsp\;</p>\n\n<p style="margin: 0px 0px 20px\; font-family: helvetica\, arial\, verdana\, sans-serif\; font-size: 14px\; line-height: 1.5em\; background-color: rgb(252\, 252\, 252)\;">Bring your low back beach chairs or blankets and enjoy an afternoon of great music! Delicious BBQ favorites will be available along with a Spirits Garden for adults 21+\, with valid driver&rsquo\;s license.</p>\n\n<p style="margin: 0px 0px 20px\; font-family: helvetica\, arial\, verdana\, sans-serif\; font-size: 14px\; line-height: 1.5em\; background-color: rgb(252\, 252\, 252)\;">&nbsp\;</p>\n
LOCATION:Baby Beach is located adjacent to the OC Sailing & Events Center\, 34451 Ensenada Place\, Dana Point. For more information call the City of Dana Point Community Services & Parks Department at 949-248-3530.
UID:e.2189.7049
SEQUENCE:3
DTSTAMP:20260424T215529Z
URL:https://business.danapointchamber.com/events/details/festival-of-whales-concert-7049
END:VEVENT

END:VCALENDAR
