BEGIN:VCALENDAR
VERSION:2.0
PRODID:-//ChamberMaster//Event Calendar 2.0//EN
METHOD:PUBLISH
X-PUBLISHED-TTL:P3D
REFRESH-INTERVAL:P3D
CALSCALE:GREGORIAN
BEGIN:VEVENT
DTSTART:20150918T200000Z
DTEND:20150918T203000Z
X-MICROSOFT-CDO-ALLDAYEVENT:FALSE
SUMMARY:FoxLin Architecture- Ribbon Cutting
DESCRIPTION:FoxLin Architecture- Ribbon Cutting
X-ALT-DESC;FMTTYPE=text/html:FoxLin Architecture- Ribbon Cutting
LOCATION:392 Camino De Estrella San Clemente\, Ca 92672
UID:e.2189.3835
SEQUENCE:3
DTSTAMP:20260422T113231Z
URL:https://business.danapointchamber.com/events/details/foxlin-architecture-ribbon-cutting-09-18-2015-3835
END:VEVENT

END:VCALENDAR
