BEGIN:VCALENDAR
VERSION:2.0
PRODID:-//ChamberMaster//Event Calendar 2.0//EN
METHOD:PUBLISH
X-PUBLISHED-TTL:P3D
REFRESH-INTERVAL:P3D
CALSCALE:GREGORIAN
BEGIN:VEVENT
DTSTART:20170527T170000Z
DTEND:20170527T190000Z
X-MICROSOFT-CDO-ALLDAYEVENT:FALSE
SUMMARY:Friends of the Dana Point Headlands Children's Program
DESCRIPTION:The Friends of the Dana Point Headlands invites you to come participate in their monthly children's program at the Dana Point Nature Interpretive Program every 4th Saturday.\n\nEach program is designed to teach kids about the natural world around the Dana Point Headlands Conservation area and introduce them to the flora and fauna found around the preserve. Programs are hands-on and generally geared toward kids and families.
X-ALT-DESC;FMTTYPE=text/html:<p background-color:="" open="" style="margin: 0px 0px 1em\; color: rgb(68\, 68\, 68)\; font-family: ">The Friends of the Dana Point Headlands invites you to come participate in their monthly children&#39\;s program at the Dana Point Nature Interpretive Program every 4th Saturday.</p>\n\n<p background-color:="" open="" style="margin: 0px 0px 1em\; color: rgb(68\, 68\, 68)\; font-family: ">Each program is designed to teach kids about the natural world around the Dana Point Headlands Conservation area and introduce them to the flora and fauna found around the preserve. Programs are hands-on and generally geared toward kids and families.</p>\n
LOCATION:Dana Point Nature Interpretive Center 34558 Scenic Drive Dana Point\, California 92629
UID:e.2189.5634
SEQUENCE:3
DTSTAMP:20260425T134136Z
URL:https://business.danapointchamber.com/events/details/friends-of-the-dana-point-headlands-children-s-program-5634
END:VEVENT

END:VCALENDAR
