BEGIN:VCALENDAR
VERSION:2.0
PRODID:-//ChamberMaster//Event Calendar 2.0//EN
METHOD:PUBLISH
X-PUBLISHED-TTL:P3D
REFRESH-INTERVAL:P3D
CALSCALE:GREGORIAN
BEGIN:VEVENT
DTSTART:20180324T170000Z
DTEND:20180324T190000Z
X-MICROSOFT-CDO-ALLDAYEVENT:FALSE
SUMMARY:Friends of the Dana Point Headlands Children's Program
DESCRIPTION:
X-ALT-DESC;FMTTYPE=text/html:
LOCATION:Dana Point Nature Interpretive Center 34558 Scenic Drive Dana Point\, CA 92629
UID:e.2189.7209
SEQUENCE:3
DTSTAMP:20260424T214944Z
URL:https://business.danapointchamber.com/events/details/friends-of-the-dana-point-headlands-children-s-program-7209
END:VEVENT

END:VCALENDAR
