BEGIN:VCALENDAR
VERSION:2.0
PRODID:-//ChamberMaster//Event Calendar 2.0//EN
METHOD:PUBLISH
X-PUBLISHED-TTL:P3D
REFRESH-INTERVAL:P3D
CALSCALE:GREGORIAN
BEGIN:VEVENT
DTSTART:20151122T200000Z
DTEND:20151122T210000Z
X-MICROSOFT-CDO-ALLDAYEVENT:FALSE
SUMMARY:Gene Burrus' Memorial
DESCRIPTION:Dana Point has suffered such a loss in the void left and the voice silenced when Gene Burrus\, 88\, passed away on Oct. 21 from melanoma.\n\n\n\nBurrus is survived by his wife of 50 years\, Gladys\, his sister-in-law Tona (Arizona) and numerous nieces and nephews\, one of which Gladys is now living with.\n\n\n\nGene "The Voice of Dana Point" Burrus' became one of the city's most beloved figures\, with his golden voice\, personality and generosity\, since "retiring" to Dana Point in 1986 with his beloved wife.
X-ALT-DESC;FMTTYPE=text/html:Dana Point has suffered such a loss&mdash\;in the void left and the voice silenced&mdash\;when Gene Burrus\, 88\, passed away on Oct. 21 from melanoma.<br />\n<br />\nBurrus is survived by his wife of 50 years\, Gladys\, his sister-in-law Tona (Arizona) and numerous nieces and nephews\, one of which Gladys is now living with.<br />\n<br />\nGene &ldquo\;The Voice of Dana Point&rdquo\; Burrus&rsquo\; became one of the city&rsquo\;s most beloved figures\, with his golden voice\, personality and generosity\, since &ldquo\;retiring&rdquo\; to Dana Point in 1986 with his beloved wife.
LOCATION:Gene Burrus Ballfield at Del Obispo Community Park adjacent to the Dana Point Community/Senior Center 34052 Del Obispo Street Dana Point\, CA 92629
UID:e.2189.4162
SEQUENCE:3
DTSTAMP:20260425T031937Z
URL:https://business.danapointchamber.com/events/details/gene-burrus-memorial-11-22-2015-4162
END:VEVENT

END:VCALENDAR
