BEGIN:VCALENDAR
VERSION:2.0
PRODID:-//ChamberMaster//Event Calendar 2.0//EN
METHOD:PUBLISH
X-PUBLISHED-TTL:P3D
REFRESH-INTERVAL:P3D
CALSCALE:GREGORIAN
BEGIN:VEVENT
DTSTART:20260115T020000Z
DTEND:20260115T033000Z
X-MICROSOFT-CDO-ALLDAYEVENT:FALSE
SUMMARY:Glasspar Flight Club Wine Tasting
DESCRIPTION:Join Glasspar for Flight Club Wine Tasting on Wednesday\, January 14 from 6:00 - 7:30pm! \n\n\n\nAttendees will enjoy delicious bites prepared by Chef Rob Wilson to accompany wines during the tasting. Purchase your favorite bottle afterwards and stay for dinner. \n\n\n\nFor more information and tickets\, click here.
X-ALT-DESC;FMTTYPE=text/html:<span style="font-size:18px\;"><span style="font-family:verdana\;"><span style="color:#000000\;">Join Glasspar for Flight Club Wine Tasting on Wednesday\, January 14 from 6:00 - 7:30pm!&nbsp\;<br />\n<br />\nAttendees will enjoy delicious bites prepared by Chef Rob Wilson to accompany wines during the tasting. Purchase your favorite bottle afterwards and stay for dinner.&nbsp\;</span></span><br />\n<br />\n<span style="font-family:verdana\;"><span style="color:#000000\;">For more information and tickets\, </span><a href="https://www.glasspar.com/events"><span style="color:#0000FF\;">click here</span></a><span style="color:#000000\;">.</span></span></span><br />\n&nbsp\;
LOCATION:Glasspar 24961 Dana Point Harbor Dr. Dana Point\, CA 92629
UID:e.2189.16187
SEQUENCE:3
DTSTAMP:20260422T153600Z
URL:https://business.danapointchamber.com/events/details/glasspar-flight-club-wine-tasting-16187
END:VEVENT

END:VCALENDAR
