BEGIN:VCALENDAR
VERSION:2.0
PRODID:-//ChamberMaster//Event Calendar 2.0//EN
METHOD:PUBLISH
X-PUBLISHED-TTL:P3D
REFRESH-INTERVAL:P3D
CALSCALE:GREGORIAN
BEGIN:VEVENT
DTSTART:20180315T153000Z
DTEND:20180315T170000Z
X-MICROSOFT-CDO-ALLDAYEVENT:FALSE
SUMMARY:Government Affairs Committee Meeting
DESCRIPTION:The mission of the Government Affairs Committee is to represent the interests of the business community in local\, state and federal legislative issues and to communicate those interests to members\, the community and elected officials.
X-ALT-DESC;FMTTYPE=text/html:<span style="background:white\;"><span style="color:#222222\;"><span style="font-family:arial\,sans-serif\;"><span style="font-size:12.0pt\;">The&nbsp\;<strong>mission</strong>&nbsp\;of the&nbsp\;<strong>Government Affairs</strong>&nbsp\;Committee is to represent the interests of the business community in local\, state and federal <strong>legislative</strong>&nbsp\;issues and to communicate those interests to members\, the community and elected officials.</span></span></span></span><br />\n&nbsp\;
LOCATION:
UID:e.2189.1562
SEQUENCE:3
DTSTAMP:20260424T215106Z
URL:https://business.danapointchamber.com/events/details/government-affairs-committee-meeting-03-01-2018-1562
END:VEVENT

END:VCALENDAR
