BEGIN:VCALENDAR
VERSION:2.0
PRODID:-//ChamberMaster//Event Calendar 2.0//EN
METHOD:PUBLISH
X-PUBLISHED-TTL:P3D
REFRESH-INTERVAL:P3D
CALSCALE:GREGORIAN
BEGIN:VEVENT
DTSTART:20141107T013000Z
DTEND:20141107T023000Z
X-MICROSOFT-CDO-ALLDAYEVENT:FALSE
SUMMARY:Government Affairs Forum
DESCRIPTION:TOPIC:  Severe Drought\, Lantern District Water/Sewer Status\, Desalination\, Recycled Water\n\nThe Dana Point Government Affairs Committee focuses on public policy and legislative action that supports the growth of business in Dana Point. This is a not a reactive group\, but a proactive committee designated to inform lawmakers of the legislative positions of our local business community.
X-ALT-DESC;FMTTYPE=text/html:<span style="font-size:14px\;"><span style="font-family:arial\;"><span style="color:#000000\;"><span style="line-height: 24px\;">TOPIC: &nbsp\;</span></span></span><strong><span style="color:#800000\;"><span style="font-family:verdana\;">Severe Drought\, Lantern District Water/Sewer Status\, Desalination\, Recycled Water</span></span></strong></span><br />\n<span style="font-size:18px\;"><span style="font-family:arial\;"><span style="color:#000000\;"><span style="line-height: 24px\;"><span style="font-size:14px\;">The Dana Point Government Affairs Committee focuses on public policy and legislative action that supports the growth of business in Dana Point. This is a not a reactive group\, but a proactive committee designated to inform lawmakers of the legislative positions of our local business community.</span></span></span></span></span><br />\n&nbsp\;
LOCATION:Dana Point Community House - 24642 San Juan Ave\, Dana Point\, CA 92629
UID:e.2189.1522
SEQUENCE:3
DTSTAMP:20260424T092643Z
URL:https://business.danapointchamber.com/events/details/government-affairs-forum-11-06-2014-1522
END:VEVENT

END:VCALENDAR
