BEGIN:VCALENDAR
VERSION:2.0
PRODID:-//ChamberMaster//Event Calendar 2.0//EN
METHOD:PUBLISH
X-PUBLISHED-TTL:P3D
REFRESH-INTERVAL:P3D
CALSCALE:GREGORIAN
BEGIN:VEVENT
DTSTART:20211023T210000Z
DTEND:20211024T030000Z
X-MICROSOFT-CDO-ALLDAYEVENT:FALSE
SUMMARY:Halloween Spooktacular & Trunk or Treat
DESCRIPTION:Join us for a Spooktacular Halloween themed event at the Dana Point Community Center located at 34052 Del Obispo Street. Indoor activities include a Haunted House maze\, games\, crafts\, cookie decoration\, entertainment\, a costume parade and treats for children.\n\n\n\nDana Point Police Services will be holding their Truck or Treat in the parking lot area. Come meet the Blood Hounds\, Bomb Squad\, K-9 Unit\, Mounted Patrol\, and the dedicated staff that keep Dana Point safe. At 6:30pm\, a Halloween movie will begin on our ballfield with free hot chocolate\, popcorn and candy. Refreshments are available for purchase throughout the event from Tacos4Troops Food Truck and Kona Ice.
X-ALT-DESC;FMTTYPE=text/html:<span style="color:#404040\;"><span style="font-family:trebuchet ms\,sans-serif\;"><span style="font-size:12.0pt\;">Join us for a Spooktacular Halloween themed event at the Dana Point Community Center located at 34052 Del Obispo Street. Indoor activities include a Haunted House maze\, games\, crafts\, cookie decoration\, entertainment\, a costume parade and treats for children.<br />\n<br />\nDana Point Police Services will be holding their Truck or Treat&nbsp\;in the parking lot area. Come meet the Blood Hounds\, Bomb Squad\, K-9 Unit\, Mounted Patrol\, and the dedicated staff that keep Dana Point safe. At 6:30pm\, a Halloween movie will begin on our ballfield with free hot chocolate\, popcorn and candy. Refreshments are available for purchase throughout&nbsp\;the event from Tacos4Troops Food Truck and Kona Ice.</span></span></span>
LOCATION:
UID:e.2189.13429
SEQUENCE:3
DTSTAMP:20260426T010522Z
URL:https://business.danapointchamber.com/events/details/halloween-spooktacular-trunk-or-treat-13429
END:VEVENT

END:VCALENDAR
