BEGIN:VCALENDAR
VERSION:2.0
PRODID:-//ChamberMaster//Event Calendar 2.0//EN
METHOD:PUBLISH
X-PUBLISHED-TTL:P3D
REFRESH-INTERVAL:P3D
CALSCALE:GREGORIAN
BEGIN:VEVENT
DTSTART;VALUE=DATE:20240210
DTEND;VALUE=DATE:20240211
TRANSP:TRANSPARENT
X-MICROSOFT-CDO-ALLDAYEVENT:TRUE
SUMMARY:Handbags for Hearts
DESCRIPTION:Handbags for Hearts is accepting donations of gently used handbags\, personal care items\, and monetary donations. Handbags will be filled with personal care items and donated to women in need in partnership with Cali Choise (formerly LivingHelp Center of Downey)\, Soroptimist International of Capistrano Bay\, and SparkPoint South Orange County. \n\n\n\nDonation items can be dropped off to the Dana Point Chamber of Commerce by February 2nd. Handbags will be filled on February 10th at the Dana Point Community Center. \n\n\n\nItems for donation include: \n\n	Gently used handbags (of all sizes)\n	Monetary donations\n	Purchased personal care items:\n	\n		Combs/Brushes\n		Toothpaste/Toothbrushes\n		Shampoo/Conditioner (full size)\n		Lotion (full size)\n		Cosmetic Bags/Makeup Remover\n		Feminine Products\n		Deodorant\n		Nail Care\n		Purse-size Tissues \n	\n	\n	Small Notepad/Pens\n	Socks \n\n\n\nHandbags for Hearts is founded by Dana Point Chamber Member\, Lucinda Lambros. Questions about the program? Contact Lucinda at lucinda@williamryancompany.com or (949) 899-6525.
X-ALT-DESC;FMTTYPE=text/html:<font color="#000000" face="verdana"><span style="font-size: 14px\;">Handbags for Hearts is accepting donations of gently used handbags\, personal care items\, and monetary donations. Handbags will be filled with personal care items and donated to women in need in partnership with Cali Choise (formerly LivingHelp Center of Downey)\, Soroptimist International of Capistrano Bay\, and SparkPoint South Orange County.&nbsp\;<br />\n<br />\n<strong>Donation items can be dropped off to the Dana Point Chamber of Commerce by February 2nd. </strong>Handbags will be filled on February 10th at the Dana Point Community Center.&nbsp\;<br />\n<br />\nItems for donation include:&nbsp\;</span></font>\n<ul>\n	<li><font color="#000000" face="verdana"><span style="font-size: 14px\;">Gently used handbags (of all sizes)</span></font></li>\n	<li><font color="#000000" face="verdana"><span style="font-size: 14px\;">Monetary donations</span></font></li>\n	<li><font color="#000000" face="verdana"><span style="font-size: 14px\;">Purchased personal care items:</span></font>\n	<ul>\n		<li><font color="#000000" face="verdana"><span style="font-size: 14px\;">Combs/Brushes</span></font></li>\n		<li><font color="#000000" face="verdana"><span style="font-size: 14px\;">Toothpaste/Toothbrushes</span></font></li>\n		<li><font color="#000000" face="verdana"><span style="font-size: 14px\;">Shampoo/Conditioner (full size)</span></font></li>\n		<li><font color="#000000" face="verdana"><span style="font-size: 14px\;">Lotion (full size)</span></font></li>\n		<li><font color="#000000" face="verdana"><span style="font-size: 14px\;">Cosmetic Bags/Makeup Remover</span></font></li>\n		<li><font color="#000000" face="verdana"><span style="font-size: 14px\;">Feminine Products</span></font></li>\n		<li><font color="#000000" face="verdana"><span style="font-size: 14px\;">Deodorant</span></font></li>\n		<li><font color="#000000" face="verdana"><span style="font-size: 14px\;">Nail Care</span></font></li>\n		<li><font color="#000000" face="verdana"><span style="font-size: 14px\;">Purse-size Tissues&nbsp\;</span></font></li>\n	</ul>\n	</li>\n	<li><font color="#000000" face="verdana"><span style="font-size: 14px\;">Small Notepad/Pens</span></font></li>\n	<li><font color="#000000" face="verdana"><span style="font-size: 14px\;">Socks&nbsp\;</span></font></li>\n</ul>\n<br />\n<font color="#000000" face="verdana"><span style="font-size: 14px\;">Handbags for Hearts is founded by Dana Point Chamber Member\, Lucinda Lambros. Questions about the program? Contact Lucinda at lucinda@williamryancompany.com or (949) 899-6525.&nbsp\;</span></font>
LOCATION:Donation Drop-off: Dana Point Chamber of Commerce 34183 Pacific Coast Hwy\, Suite A Dana Point\, CA 92629
UID:e.2189.14751
SEQUENCE:3
DTSTAMP:20260424T054338Z
URL:https://business.danapointchamber.com/events/details/handbags-for-hearts-14751
END:VEVENT

END:VCALENDAR
