BEGIN:VCALENDAR
VERSION:2.0
PRODID:-//ChamberMaster//Event Calendar 2.0//EN
METHOD:PUBLISH
X-PUBLISHED-TTL:P3D
REFRESH-INTERVAL:P3D
CALSCALE:GREGORIAN
BEGIN:VEVENT
DTSTART:20150117T170000Z
DTEND:20150117T180000Z
X-MICROSOFT-CDO-ALLDAYEVENT:FALSE
SUMMARY:History Walk
DESCRIPTION:History Walk begins at the Nature Interpretive Center. The City of Dana Point Nature Interpretive Center is a destination where the public can discover the rich history of the Dana Point Headlands and learn the natural history of this iconic area.
X-ALT-DESC;FMTTYPE=text/html:History Walk begins at the Nature Interpretive Center. The City of Dana Point Nature Interpretive Center is a destination where the public can discover the rich history of the Dana Point Headlands and learn the natural history of this iconic area.
LOCATION:34558 Scenic Drive\, Dana Point\, CA 92629
UID:e.2189.1899
SEQUENCE:3
DTSTAMP:20260424T062731Z
URL:https://business.danapointchamber.com/events/details/history-walk-01-17-2015-1899
END:VEVENT

END:VCALENDAR
