BEGIN:VCALENDAR
VERSION:2.0
PRODID:-//ChamberMaster//Event Calendar 2.0//EN
METHOD:PUBLISH
X-PUBLISHED-TTL:P3D
REFRESH-INTERVAL:P3D
CALSCALE:GREGORIAN
BEGIN:VEVENT
DTSTART:20151029T230000Z
DTEND:20151030T020000Z
X-MICROSOFT-CDO-ALLDAYEVENT:FALSE
SUMMARY:Howl-O-Ween 2015
DESCRIPTION:Canines and their companions are invited for tricks and treats in celebration of Howl-O-Ween. This seasonal Yappy Hour celebration is a chance for pups to strut their stuff in their favorite costume. A panel of judges will determine which canine will take home the prize in the costume categories of Scariest\, Funniest\, Most Glamorous and\, of course\, Best in Show. First place prize in each category is a hand-painted dog bowl by Debby Carman of Faux Paws Productions.
X-ALT-DESC;FMTTYPE=text/html:Canines and their companions are invited for tricks and treats in celebration of Howl-O-Ween. This seasonal Yappy Hour celebration is a chance for pups to strut their stuff in their favorite costume. A panel of judges will determine which canine will take home the prize in the costume categories of Scariest\, Funniest\, Most Glamorous and\, of course\, Best in Show. First place prize in each category is a hand-painted dog bowl by Debby Carman of Faux Paws Productions.
LOCATION:The Ritz-Carlton\, Laguna Niguel One Ritz-Carlton Drive Dana Point\, CA 92629
UID:e.2189.2585
SEQUENCE:3
DTSTAMP:20260421T032548Z
URL:https://business.danapointchamber.com/events/details/howl-o-ween-2015-10-29-2015-2585
END:VEVENT

END:VCALENDAR
