BEGIN:VCALENDAR
VERSION:2.0
PRODID:-//ChamberMaster//Event Calendar 2.0//EN
METHOD:PUBLISH
X-PUBLISHED-TTL:P3D
REFRESH-INTERVAL:P3D
CALSCALE:GREGORIAN
BEGIN:VEVENT
DTSTART:20220115T180000Z
DTEND:20220115T190000Z
X-MICROSOFT-CDO-ALLDAYEVENT:FALSE
SUMMARY:Hugs for Heroes Donation Drive
DESCRIPTION:Our local health care workers are enduring yet another major surge in hospital and ICU COVID cases\, but this time\, they're also dealing with staff shortages due to the surging omicron variant. Hugs for Heroes has been asked to once more urge the public to provide meals\, snacks\, and notes of encouragement to our local health care workers at the two Mission Hospital locations\, Mission Viejo and Laguna Beach.\n\n\n\nIn 2021\, Dana Point Woman's Club members generously supported this effort and we were able to provide a carload of snacks\, many beautiful notes\, and over $1\,000 in contributions   enough to provide a meal to every covid care worker in both shifts for both locations.  The meals\, notes and snacks not only provide sustenance\, but most importantly\, they allow the community to send a well-deserved "hug" to our health care heroes. Last year\, Hugs for Heroes sent car loads of snacks and love notes\, and purchased close to 650 meals from participating Dana Point restaurants\,  (106 sponsored by DPWC). Please consider supporting this effort once again by:\n\n \n\n	Donating meals to health care workers ($10 per meal) via PayPal here (or send a check to DPWC/Hugs for Heroes\, PO Box 205\, Dana Point\, CA 92629)\n	Dropping off notes of encouragement and bulk\, unrefrigerated snacks* to the Community House\, 24642 San Juan Ave\, Dana Point\, on Saturday\, January 15 from 10:00-11:00 a.m. \n\n*Suggested snacks: Any bulk\, individually wrapped\, unrefrigerated snack or drinks. Granola bars\, nuts\, beef or turkey jerky\, dried meat sticks\, popcorn\, chips\, cookies\, crackers\, graham crackers\, chocolate\, etc.... cases of water or Gatorade\, juices. Fresh oranges\, tangerines\, small apples and green bananas. Homemade snacks are not allowed due to COVID rules.
X-ALT-DESC;FMTTYPE=text/html:<span style="font-size:14px\;"><span style="font-family:verdana\;">Our local health care workers are enduring yet another major surge in hospital and ICU COVID cases\, but this time\, they&rsquo\;re also dealing with staff shortages due to the surging omicron variant. Hugs for Heroes has been asked to once more urge the public to provide meals\, snacks\, and notes of encouragement to our local health care workers at the two Mission Hospital locations\, Mission Viejo and Laguna Beach.<br />\n<br />\nIn 2021\, Dana Point Woman&#39\;s Club members generously supported this effort and we were able to provide a carload of snacks\, many beautiful notes\, and over $1\,000 in contributions &ndash\; enough to provide a meal to every covid care worker in both shifts for both locations.&nbsp\; The meals\, notes and snacks not only provide sustenance\, but most importantly\, they allow the community to send a well-deserved &ldquo\;hug&rdquo\; to our health care heroes. Last year\, Hugs for Heroes sent car loads of snacks and love notes\, and purchased close to 650 meals from participating Dana Point restaurants\,&nbsp\; (106 sponsored by DPWC). Please consider supporting this effort once again by:</span></span><br />\n&nbsp\;\n<ul>\n	<li><span style="font-size:14px\;"><span style="font-family:verdana\;">Donating meals to health care workers ($10 per meal) <a href="https://www.paypal.com/donate/?hosted_button_id=V8Y46BM6ZC4SJ">via PayPal here</a> (or send a check to DPWC/Hugs for Heroes\, PO Box 205\, Dana Point\, CA 92629)</span></span></li>\n	<li><span style="font-size:14px\;"><span style="font-family:verdana\;">Dropping off notes of encouragement and bulk\, unrefrigerated snacks* to the Community House\, 24642 San Juan Ave\, Dana Point\, on Saturday\, January 15 from 10:00-11:00 a.m.&nbsp\;</span></span></li>\n</ul>\n<span style="font-size:14px\;"><span style="font-family:verdana\;">*Suggested snacks: Any bulk\, individually wrapped\, unrefrigerated snack or drinks. Granola bars\, nuts\, beef or turkey jerky\, dried meat sticks\, popcorn\, chips\, cookies\, crackers\, graham crackers\, chocolate\, etc.... cases of water or Gatorade\, juices. Fresh oranges\, tangerines\, small apples and green bananas. <u>Homemade snacks are not allowed</u> due to COVID rules.&nbsp\;</span></span><br />\n&nbsp\;
LOCATION:Dana Point Women's Community House 24642 San Juan Ave Dana Point\, CA 92629
UID:e.2189.13540
SEQUENCE:3
DTSTAMP:20260425T211143Z
URL:https://business.danapointchamber.com/events/details/hugs-for-heroes-donation-drive-13540
END:VEVENT

END:VCALENDAR
