BEGIN:VCALENDAR
VERSION:2.0
PRODID:-//ChamberMaster//Event Calendar 2.0//EN
METHOD:PUBLISH
X-PUBLISHED-TTL:P3D
REFRESH-INTERVAL:P3D
CALSCALE:GREGORIAN
BEGIN:VEVENT
DTSTART:20150705T160000Z
DTEND:20150705T190000Z
X-MICROSOFT-CDO-ALLDAYEVENT:FALSE
SUMMARY:Independence Day "Aftermath" Park & Beach clean-up
DESCRIPTION:The staff at Doheny State Beach would sure appreciate any help from volunteers to clean up after the masses of 4th of July picnickers!  This is considered the messiest day of the year.
X-ALT-DESC;FMTTYPE=text/html:<span style="color: rgb(123\, 115\, 87)\; font-family: Verdana\, Arial\, sans-serif\; font-size: 11px\; line-height: 20px\; background-color: rgb(242\, 234\, 200)\;">The staff at Doheny State Beach would sure appreciate any help from volunteers to clean up after the masses of 4th of July picnickers!&nbsp\; This is considered the messiest day of the year.&nbsp\;&nbsp\;</span>
LOCATION:Doheny State Beach 25300 Dana Point Harbor Drive Dana Point\, CA 92629
UID:e.2189.2610
SEQUENCE:3
DTSTAMP:20260423T012133Z
URL:https://business.danapointchamber.com/events/details/independence-day-aftermath-park-beach-clean-up-07-05-2015-2610
END:VEVENT

END:VCALENDAR
