BEGIN:VCALENDAR
VERSION:2.0
PRODID:-//ChamberMaster//Event Calendar 2.0//EN
METHOD:PUBLISH
X-PUBLISHED-TTL:P3D
REFRESH-INTERVAL:P3D
CALSCALE:GREGORIAN
BEGIN:VEVENT
DTSTART:20150705T023000Z
DTEND:20150705T043000Z
X-MICROSOFT-CDO-ALLDAYEVENT:FALSE
SUMMARY:July 4th Dinner and Fireworks Cruise
DESCRIPTION:Come aboard the Dana Pride for our special 4th of July Fireworks Dinner Cruise. Enjoy a unique evening of fun on the water\, complete with a live Fireworks demonstration and a delicious BBQ buffet dinner! Watch in awe as the City of Dana Point provides one of the best Fireworks displays on the coast. You might even get to enjoy the dynamic presentations offered by neighboring cities off in the distance as well. This trip is limited and will not be crowded! A perfect family event for all ages. Bring the whole family!
X-ALT-DESC;FMTTYPE=text/html:Come aboard the Dana Pride for our special 4th of July Fireworks Dinner Cruise. Enjoy a unique evening of fun on the water\, complete with a live Fireworks demonstration and a delicious BBQ buffet dinner! Watch in awe as the City of Dana Point provides one of the best Fireworks displays on the coast. You might even get to enjoy the dynamic presentations offered by neighboring cities off in the distance as well. This trip is limited and will not be crowded! A perfect family event for all ages. Bring the whole family!
LOCATION:Dana Wharf Sportfishing and Whale Watching 34675 Golden Lantern\, Dana Point\, CA 92629
UID:e.2189.2902
SEQUENCE:3
DTSTAMP:20260422T172423Z
URL:https://business.danapointchamber.com/events/details/july-4th-dinner-and-fireworks-cruise-07-04-2015-2902
END:VEVENT

END:VCALENDAR
