BEGIN:VCALENDAR
VERSION:2.0
PRODID:-//ChamberMaster//Event Calendar 2.0//EN
METHOD:PUBLISH
X-PUBLISHED-TTL:P3D
REFRESH-INTERVAL:P3D
CALSCALE:GREGORIAN
BEGIN:VEVENT
DTSTART:20150705T030000Z
DTEND:20150705T043000Z
X-MICROSOFT-CDO-ALLDAYEVENT:FALSE
SUMMARY:July 4th Fireworks Cruise
DESCRIPTION:Come aboard one of our beautiful boats for a special 4th of July Fireworks Display Cruise. Enjoy a unique evening of fun on the water\, complete with a live Fireworks demonstration sponsored by the city of Dana Point! Enjoy one of the best fireworks displays on the coast. You might even get to enjoy the dynamic fireworks presentations offered by neighboring cities off in the distance as well.
X-ALT-DESC;FMTTYPE=text/html:Come aboard one of our beautiful boats for a special 4th of July Fireworks Display Cruise. Enjoy a unique evening of fun on the water\, complete with a live Fireworks demonstration sponsored by the city of Dana Point! Enjoy one of the best fireworks displays on the coast. You might even get to enjoy the dynamic fireworks presentations offered by neighboring cities off in the distance as well.
LOCATION:Dana Wharf Sportfishing and Whale Watching 34675 Golden Lantern\, Dana Point\, CA 92629
UID:e.2189.2901
SEQUENCE:3
DTSTAMP:20260423T065451Z
URL:https://business.danapointchamber.com/events/details/july-4th-fireworks-cruise-07-04-2015-2901
END:VEVENT

END:VCALENDAR
