BEGIN:VCALENDAR
VERSION:2.0
PRODID:-//ChamberMaster//Event Calendar 2.0//EN
METHOD:PUBLISH
X-PUBLISHED-TTL:P3D
REFRESH-INTERVAL:P3D
CALSCALE:GREGORIAN
BEGIN:VEVENT
DTSTART:20150423T000000Z
DTEND:20150423T030000Z
X-MICROSOFT-CDO-ALLDAYEVENT:FALSE
SUMMARY:Lecture with Ari Friedlaender
DESCRIPTION:JOIN US for a lecture with Unframable author Ari Friedlaender Wednesday\, April 22nd. Over the course of 25 trips to Antarctica\, Ari?s research program used tag technology to study the underwater behavior of marine mammals\, leading to many discoveries about whales. Using photography\, Ari has sought to shed light on some of the unique aspects of the Antarctic inhabitants and the threats that this fragile ecosystem now faces. Reception: $55 (includes book) ? Members: $5 ? General: $10 The private reception capacity is limited to 30 guests. The general event capacity is 150.
X-ALT-DESC;FMTTYPE=text/html:JOIN US for a lecture with Unframable author Ari Friedlaender Wednesday\, April 22nd. Over the course of 25 trips to Antarctica\, Ari?s research program used tag technology to study the underwater behavior of marine mammals\, leading to many discoveries about whales. Using photography\, Ari has sought to shed light on some of the unique aspects of the Antarctic inhabitants and the threats that this fragile ecosystem now faces. Reception: $55 (includes book) ? Members: $5 ? General: $10 The private reception capacity is limited to 30 guests. The general event capacity is 150.
LOCATION:Ocean Institute 24200 Dana Point Harbor Drive Dana Point\, CA 92629
UID:e.2189.2587
SEQUENCE:3
DTSTAMP:20260425T135348Z
URL:https://business.danapointchamber.com/events/details/lecture-with-ari-friedlaender-04-22-2015-2587
END:VEVENT

END:VCALENDAR
