BEGIN:VCALENDAR
VERSION:2.0
PRODID:-//ChamberMaster//Event Calendar 2.0//EN
METHOD:PUBLISH
X-PUBLISHED-TTL:P3D
REFRESH-INTERVAL:P3D
CALSCALE:GREGORIAN
BEGIN:VEVENT
DTSTART:20180210T190000Z
DTEND:20180210T223000Z
X-MICROSOFT-CDO-ALLDAYEVENT:FALSE
SUMMARY:"Let There Be Love" Fashion Show & Luncheon
DESCRIPTION:Please join the Dana Point Woman's Club for a beautiful afternoon!\n\n	Couture by L & M Fashions\n	Gourmet Luncheon\n	Fabulous Vendors\n	Raffle Prizes\n	Silent Auction\n\nFunds raised provide charitable scholarships.\n\n\n\nMail checks to:\n\nDPWC\n\nPO Box 205\n\nDana Point \,CA 92629
X-ALT-DESC;FMTTYPE=text/html:Please join the Dana Point Woman&#39\;s Club for a beautiful afternoon!\n<ul>\n	<li>Couture by L &amp\; M Fashions</li>\n	<li>Gourmet Luncheon</li>\n	<li>Fabulous Vendors</li>\n	<li>Raffle Prizes</li>\n	<li>Silent Auction</li>\n</ul>\nFunds raised provide charitable scholarships.<br />\n<br />\nMail checks to:<br />\nDPWC<br />\nPO Box 205<br />\nDana Point \,CA 92629
LOCATION:Talega Golf Club 990 Avenida Talega San Clemente
UID:e.2189.6040
SEQUENCE:3
DTSTAMP:20260424T233355Z
URL:https://business.danapointchamber.com/events/details/let-there-be-love-fashion-show-luncheon-6040
END:VEVENT

END:VCALENDAR
