BEGIN:VCALENDAR
VERSION:2.0
PRODID:-//ChamberMaster//Event Calendar 2.0//EN
METHOD:PUBLISH
X-PUBLISHED-TTL:P3D
REFRESH-INTERVAL:P3D
CALSCALE:GREGORIAN
BEGIN:VEVENT
DTSTART:20160818T233000Z
DTEND:20160819T030000Z
X-MICROSOFT-CDO-ALLDAYEVENT:FALSE
SUMMARY:Lingerie Paradis Sale & Trunk Show Party
DESCRIPTION:Join us for our Sale & Trunk Show Party!  Earn 25-50% OFF all Summer PJ's Loungewear & Swimwear!  Enjoy a DJ\, champagne and complimentary massages.
X-ALT-DESC;FMTTYPE=text/html:Join us for our Sale &amp\; Trunk Show Party! &nbsp\;Earn 25-50% OFF all Summer PJ&#39\;s Loungewear &amp\; Swimwear! &nbsp\;Enjoy a DJ\, champagne and complimentary massages. &nbsp\;
LOCATION:Lingerie Paradis USA 24040 Camino Del Avion\, Suite D Dana Point\, 92629 Located in Monarch Beach Promenade
UID:e.2189.4867
SEQUENCE:3
DTSTAMP:20260426T033251Z
URL:https://business.danapointchamber.com/events/details/lingerie-paradis-sale-trunk-show-party-08-18-2016-4867
END:VEVENT

END:VCALENDAR
