BEGIN:VCALENDAR
VERSION:2.0
PRODID:-//ChamberMaster//Event Calendar 2.0//EN
METHOD:PUBLISH
X-PUBLISHED-TTL:P3D
REFRESH-INTERVAL:P3D
CALSCALE:GREGORIAN
BEGIN:VEVENT
DTSTART:20170128T210000Z
DTEND:20170128T230000Z
X-MICROSOFT-CDO-ALLDAYEVENT:FALSE
SUMMARY:Lunar New Year Celebration - Outlets at San Clemente
DESCRIPTION:Outlets at San Clemente invites you to join us for family-friendly fun at our Lunar New Year celebration\, taking place on Saturday\, January 28. Highlights include a Dragon Dance\, interactive Lion Dances for kids\, musical performances\, martial arts demonstrations\, arts and crafts activities\, face painting\, balloon animals and a Red Envelope Giveaway! Full of gifts and wonder\, the Red Envelope symbolizes good luck and fortune. Pick up your free Lucky Red Envelope for the chance to win special offers and prizes from your favorite brands
X-ALT-DESC;FMTTYPE=text/html:Outlets at San Clemente invites you to join us for family-friendly fun at our Lunar New Year celebration\, taking place on Saturday\, January 28. Highlights include a Dragon Dance\, interactive Lion Dances for kids\, musical performances\, martial arts demonstrations\, arts and crafts activities\, face painting\, balloon animals and a Red Envelope Giveaway! Full of gifts and wonder\, the Red Envelope symbolizes good luck and fortune. Pick up your free Lucky Red Envelope for the chance to win special offers and prizes from your favorite brands
LOCATION:Outlets at San Clemente - Center Court 101 W. Avenida Vista Hermosa San Clemente\, CA 92672
UID:e.2189.5158
SEQUENCE:3
DTSTAMP:20260425T212753Z
URL:https://business.danapointchamber.com/events/details/lunar-new-year-celebration-outlets-at-san-clemente-5158
END:VEVENT

END:VCALENDAR
