BEGIN:VCALENDAR
VERSION:2.0
PRODID:-//ChamberMaster//Event Calendar 2.0//EN
METHOD:PUBLISH
X-PUBLISHED-TTL:P3D
REFRESH-INTERVAL:P3D
CALSCALE:GREGORIAN
BEGIN:VEVENT
DTSTART:20260226T200000Z
DTEND:20260226T210000Z
X-MICROSOFT-CDO-ALLDAYEVENT:FALSE
SUMMARY:Lunch and Learn | Chatterton Business Solutions
DESCRIPTION:Join Chatterton Business Solutions for a monthly Lunch & Learn!\n\n\n\nTopic: Beyond Tax Filing: Building a Year-Round Tax Strategy\n\n\n\nIn this session\, we'll cover:\n\n	How clean\, accurate\, and timely books support the safe implementation of tax strategies\n	Common reasons business owners may overpay taxes\n	The difference between reactive tax preparation and proactive tax strategy   and more!
X-ALT-DESC;FMTTYPE=text/html:<span style="font-size:18px\;"><span style="font-family:verdana\;"><span style="color:#000000\;">Join Chatterton Business Solutions for a monthly Lunch &amp\; Learn!<br />\n<br />\nTopic: Beyond Tax Filing: Building a Year-Round Tax Strategy<br />\n<br />\nIn this session\, we&rsquo\;ll cover:</span></span></span>\n<ul>\n	<li><span style="font-size:18px\;"><span style="font-family:verdana\;"><span style="color:#000000\;">How clean\, accurate\, and timely books support the safe implementation of tax strategies</span></span></span></li>\n	<li><span style="font-size:18px\;"><span style="font-family:verdana\;"><span style="color:#000000\;">Common reasons business owners may overpay taxes</span></span></span></li>\n	<li><span style="font-size:18px\;"><span style="font-family:verdana\;"><span style="color:#000000\;">The difference between reactive tax preparation and proactive tax strategy &hellip\; and more!</span></span></span></li>\n</ul>\n
LOCATION:The Classroom at Chatterton & Associates 3061 E. La Palma Ave Anaheim\, CA 92806
UID:e.2189.17259
SEQUENCE:3
DTSTAMP:20260422T134149Z
URL:https://business.danapointchamber.com/events/details/lunch-and-learn-chatterton-business-solutions-17259
END:VEVENT

END:VCALENDAR
