BEGIN:VCALENDAR
VERSION:2.0
PRODID:-//ChamberMaster//Event Calendar 2.0//EN
METHOD:PUBLISH
X-PUBLISHED-TTL:P3D
REFRESH-INTERVAL:P3D
CALSCALE:GREGORIAN
BEGIN:VEVENT
DTSTART:20230624T020000Z
DTEND:20230624T020000Z
X-MICROSOFT-CDO-ALLDAYEVENT:FALSE
SUMMARY:Lyric Opera of Orange County
DESCRIPTION:Lyric Opera OC returns to the Ocean Institute for a beautiful evening of sea themed melodies & music. The evening begins with a reception\, hosted by Dana Point Sister Cities\, with light hors d'oeuvres and wine overlooking Dana Point Harbor.\n\n\n\nDon't miss one of the most elegant evenings and your chance to enjoy an intimate performance with world-class singers.\n\nV IP Tickets include 7pm reception and 1 drink ticket. Limited cash bar available.
X-ALT-DESC;FMTTYPE=text/html:&nbsp\;\n<p style="margin: 0px\; padding: 0px\; box-sizing: border-box\; color: rgb(111\, 114\, 135)\; font-size: 16px\; line-height: 1.5rem\; font-family: &quot\;Neue Plak&quot\;\, -apple-system\, BlinkMacSystemFont\, Roboto\, &quot\;Helvetica Neue&quot\;\, Helvetica\, Tahoma\, Arial\, sans-serif\;"><span style="font-size:14px\;"><span style="font-family:verdana\;"><span style="color:#000000\;">Lyric Opera OC returns to the Ocean Institute for a beautiful evening of sea themed melodies &amp\; music. The evening begins with a reception\, hosted by Dana Point Sister Cities\, with light hors d&#39\;oeuvres and wine overlooking Dana Point Harbor.<br />\n<br />\nDon&#39\;t miss one of the most elegant evenings and your chance to enjoy an intimate performance with world-class singers.</span></span></span></p>\n\n<p style="margin: 0px\; padding: 10px 0px 0px\; box-sizing: border-box\; color: rgb(111\, 114\, 135)\; font-size: 16px\; line-height: 1.5rem\; font-family: &quot\;Neue Plak&quot\;\, -apple-system\, BlinkMacSystemFont\, Roboto\, &quot\;Helvetica Neue&quot\;\, Helvetica\, Tahoma\, Arial\, sans-serif\;"><span style="font-size:14px\;"><span style="font-family:verdana\;"><span style="color:#000000\;">V&#65279\;IP Tickets include 7pm reception and 1 drink ticket. Limited cash bar available.</span></span></span></p>\n
LOCATION:Ocean Institute
UID:e.2189.14377
SEQUENCE:3
DTSTAMP:20260424T181158Z
URL:https://business.danapointchamber.com/events/details/lyric-opera-of-orange-county-14377
END:VEVENT

END:VCALENDAR
