BEGIN:VCALENDAR
VERSION:2.0
PRODID:-//ChamberMaster//Event Calendar 2.0//EN
METHOD:PUBLISH
X-PUBLISHED-TTL:P3D
REFRESH-INTERVAL:P3D
CALSCALE:GREGORIAN
BEGIN:VEVENT
DTSTART:20260131T210000Z
DTEND:20260201T000000Z
X-MICROSOFT-CDO-ALLDAYEVENT:FALSE
SUMMARY:Magical Shears Hair Salon 15th Anniversary Celebration
DESCRIPTION:Celebrate Magical Shears Hair Salon's 15th Anniversary on Saturday\, January 31st\, from 1:00PM - 4:00PM. Join them for champagne\, tinsel\, food and games!\n\n \n\nFor more information\, contact Magical Shears Hair Salon at (949) 636-1980 or check out their Instagram @magicalshears_hairsalon
X-ALT-DESC;FMTTYPE=text/html:<p><span style="font-size:18px\;"><span style="font-family:verdana\;"><span data-teams="true">Celebrate Magical Shears Hair Salon&#39\;s 15th Anniversary on <strong>Saturday\, January 31st\, from 1:00PM - 4:00PM.</strong> Join them for champagne\, tinsel\, food and games!</span></span></span></p>\n\n<p style="margin-left: 0px\;"><span style="font-size:18px\;"><span style="font-family:verdana\;"><span data-teams="true">&nbsp\;</span></span></span></p>\n\n<p style="margin-left: 0px\;"><span style="font-family:verdana\;"><span style="font-size:18px\;"><span data-teams="true">For more information\, contact Magical Shears Hair Salon at (949) 636-1980 or check out their Instagram <a href="https://www.instagram.com/magicalshears_hairsalon/?hl=en">@<span style="text-wrap-mode: nowrap\;">magicalshears_hairsalon</span></a></span></span></span></p>\n
LOCATION:Magical Shears Hair Salon 34098 Pacific Coast Highway Suite B\, Dana Point\, CA\, 92629
UID:e.2189.16617
SEQUENCE:3
DTSTAMP:20260422T155307Z
URL:https://business.danapointchamber.com/events/details/magical-shears-hair-salon-15th-anniversary-celebration-16617
END:VEVENT

END:VCALENDAR
