BEGIN:VCALENDAR
VERSION:2.0
PRODID:-//ChamberMaster//Event Calendar 2.0//EN
METHOD:PUBLISH
X-PUBLISHED-TTL:P3D
REFRESH-INTERVAL:P3D
CALSCALE:GREGORIAN
BEGIN:VEVENT
DTSTART:20240301T020000Z
DTEND:20240301T040000Z
X-MICROSOFT-CDO-ALLDAYEVENT:FALSE
SUMMARY:Martini 101: The Classics
DESCRIPTION:Attend a How To at H M class with an evening of martini making\, featuring all the classics on Thursday\, February 29 from 6-8pm! H M Dana Point will be teaching you how to craft the perfect dirty martini\, a cosmopolitan and a lemondrop martini!\n\nWhether you're a beginner or a cocktail enthusiast\, this in-person experience is perfect for you to sample all the classics. Our resident expert will be sharing their expertise and teaching you the art of making the perfect martinis. Included in the ticket price is all things needed to make the perfect martini and a take-home gift! Don't miss out on this unique opportunity to expand your knowledge and impress your friends with your newfound mixology skills. Grab your friends and join us at H M Dana Point for martini making!\n\n\n\nGet Tickets
X-ALT-DESC;FMTTYPE=text/html:&nbsp\;\n<p style="font-family: -apple-system\, BlinkMacSystemFont\, Roboto\, &quot\;Helvetica Neue&quot\;\, Helvetica\, Tahoma\, Arial\, sans-serif\; margin: 0px\; padding: 10px 0px 0px\; box-sizing: border-box\; color: rgb(111\, 114\, 135)\; font-size: 16px\; line-height: 1.5rem\;"><span style="font-size:14px\;"><span style="font-family:verdana\;"><span style="color:#000000\;">Attend a&nbsp\;<span style="font-weight: 700\; box-sizing: border-box\; padding-top: 0px\;">How To at H&#332\;M</span>&nbsp\;class with an evening of martini making\, featuring all the classics on Thursday\, February 29 from 6-8pm! H&#332\;M Dana Point will be teaching you how to craft the&nbsp\;<span style="font-weight: 700\; box-sizing: border-box\;">perfect dirty martini\, a cosmopolitan and a lemondrop martini!</span></span></span></span></p>\n\n<p style="font-family: -apple-system\, BlinkMacSystemFont\, Roboto\, &quot\;Helvetica Neue&quot\;\, Helvetica\, Tahoma\, Arial\, sans-serif\; margin: 0px\; padding: 10px 0px 0px\; box-sizing: border-box\; color: rgb(111\, 114\, 135)\; font-size: 16px\; line-height: 1.5rem\;"><span style="font-size:14px\;"><span style="font-family:verdana\;"><span style="color:#000000\;">Whether you&#39\;re a beginner or a cocktail enthusiast\, this in-person experience is perfect for you to sample all the classics. Our resident expert will be sharing their expertise and teaching you the art of making the perfect martinis. Included in the ticket price is all things needed to make the perfect martini and a take-home gift! Don&#39\;t miss out on this unique opportunity to expand your knowledge and impress your friends with your newfound mixology skills. Grab your friends and join us at H&#332\;M Dana Point for martini making!</span><br />\n<br />\n<strong><a href="https://www.eventbrite.com/e/martini-making-101-dirty-cosmo-lemondrop-tickets-790420347537"><span style="color:#0000FF\;">Get Tickets</span></a></strong></span></span><br />\n&nbsp\;</p>\n
LOCATION:H M Dana Point 24452 Del Prado\, Suite A Dana Point\, CA 92629
UID:e.2189.14822
SEQUENCE:3
DTSTAMP:20260424T054013Z
URL:https://business.danapointchamber.com/events/details/martini-101-the-classics-14822
END:VEVENT

END:VCALENDAR
