BEGIN:VCALENDAR
VERSION:2.0
PRODID:-//ChamberMaster//Event Calendar 2.0//EN
METHOD:PUBLISH
X-PUBLISHED-TTL:P3D
REFRESH-INTERVAL:P3D
CALSCALE:GREGORIAN
BEGIN:VEVENT
DTSTART:20151121T003000Z
DTEND:20151121T020000Z
X-MICROSOFT-CDO-ALLDAYEVENT:FALSE
SUMMARY:McCool Flowers 20th Anniversary
DESCRIPTION:Join McCool Flowers as they celebrate their 20th Anniversary.\n\nOne free rose per attendee.\n\nAnniversary specials all day!\n\n\n\nReception and light hors' douvres.
X-ALT-DESC;FMTTYPE=text/html:Join McCool Flowers as they celebrate their 20th Anniversary.<br />\nOne free rose per attendee.<br />\nAnniversary specials all day!<br />\n<br />\nReception and light hors&#39\; douvres.&nbsp\;&nbsp\;&nbsp\;&nbsp\;&nbsp\;
LOCATION:McCool Flowers 31271 Niguel Rd Ste A Laguna Niguel\, CA 92677
UID:e.2189.4161
SEQUENCE:3
DTSTAMP:20260422T113127Z
URL:https://business.danapointchamber.com/events/details/mccool-flowers-20th-anniversary-11-20-2015-4161
END:VEVENT

END:VCALENDAR
