BEGIN:VCALENDAR
VERSION:2.0
PRODID:-//ChamberMaster//Event Calendar 2.0//EN
METHOD:PUBLISH
X-PUBLISHED-TTL:P3D
REFRESH-INTERVAL:P3D
CALSCALE:GREGORIAN
BEGIN:VEVENT
DTSTART:20150903T000000Z
DTEND:20150903T010000Z
X-MICROSOFT-CDO-ALLDAYEVENT:FALSE
SUMMARY:Member Orientation
DESCRIPTION:Join us for a New Member Orientation on the first Wednesday of every other month\, from 5:00-6:00pm at Brio Tuscany Grille. \n\n \n\nWe encourage new members\, new employees and current members looking for a "refresher" course to attend this event. Attendees will receive your New Member Packet and plaque\, plus you'll get a detailed presentation of your Chamber member benefits. \n\n \n\nThis orientation is your opportunity to meet Chamber staff\, Board members\, Chamber Ambassadors and fellow new members\, while learning about all the exciting opportunities your Chamber membership offers you!\n\n\n\nTo RSVP\, please email Carla@DanaPointChamber.com
X-ALT-DESC;FMTTYPE=text/html:<div style="color: rgb(0\, 0\, 152)\; font-family: 'Century Gothic'\, 'ITC Avant Garde'\, Arial\, Helvetica\, sans-serif\; font-size: 11px\; line-height: normal\;"><span style="font-family:arial\;"><span style="font-size: 12pt\;"><span style="color:#000000\;">Join us for a New Member Orientation on the first Wednesday of every other month\, from 5:00-6:00pm at&nbsp\;</span><a href="http://www.briorestaurant.com/" linktype="1" rel="nofollow" shape="rect" style="font-weight: bold\; color: rgb(0\, 0\, 144)\;" target="_blank" track="on"><span style="color:#000000\;">Brio Tuscany Grille</span></a><span style="color:#000000\;">.&nbsp\;</span></span></span></div>\n\n<div style="color: rgb(0\, 0\, 152)\; font-family: 'Century Gothic'\, 'ITC Avant Garde'\, Arial\, Helvetica\, sans-serif\; font-size: 11px\; line-height: normal\;"><span style="color:#000000\;"><span style="font-family:arial\;"><span style="font-size: 12pt\;">&nbsp\;</span></span></span></div>\n\n<div style="color: rgb(0\, 0\, 152)\; font-family: 'Century Gothic'\, 'ITC Avant Garde'\, Arial\, Helvetica\, sans-serif\; font-size: 11px\; line-height: normal\;"><span style="color:#000000\;"><span style="font-family:arial\;"><span style="font-size: 12pt\;">We encourage new members\, new employees and current members looking for a &quot\;refresher&quot\; course to attend this event. Attendees will receive your New Member Packet and plaque\, plus you&#39\;ll get a detailed presentation of your Chamber member benefits.&nbsp\;</span></span></span></div>\n\n<div style="color: rgb(0\, 0\, 152)\; font-family: 'Century Gothic'\, 'ITC Avant Garde'\, Arial\, Helvetica\, sans-serif\; font-size: 11px\; line-height: normal\;">&nbsp\;</div>\n\n<div style="color: rgb(0\, 0\, 152)\; font-family: 'Century Gothic'\, 'ITC Avant Garde'\, Arial\, Helvetica\, sans-serif\; font-size: 11px\; line-height: normal\;"><span style="color:#000000\;"><span style="font-family:arial\;"><span style="font-size: 12pt\;">This orientation is your opportunity to meet Chamber staff\, Board members\, Chamber Ambassadors and fellow new members\, while learning about all the exciting opportunities your Chamber membership offers you!<br />\n<br />\n<u><strong>To RSVP\, please email Carla@DanaPointChamber.com</strong></u></span></span></span></div>\n
LOCATION:Brio Tuscany Grille - 24050 Camino del Avion\, Dana Point
UID:e.2189.1464
SEQUENCE:3
DTSTAMP:20260422T032043Z
URL:https://business.danapointchamber.com/events/details/member-orientation-09-02-2015-1464
END:VEVENT

END:VCALENDAR
