BEGIN:VCALENDAR
VERSION:2.0
PRODID:-//ChamberMaster//Event Calendar 2.0//EN
METHOD:PUBLISH
X-PUBLISHED-TTL:P3D
REFRESH-INTERVAL:P3D
CALSCALE:GREGORIAN
BEGIN:VEVENT
DTSTART:20151105T010000Z
DTEND:20151105T020000Z
X-MICROSOFT-CDO-ALLDAYEVENT:FALSE
SUMMARY:Member Orientation
DESCRIPTION:Join us for a New Member Orientation on the first Wednesday of every other month\, from 5:00-6:00pm at Brio Tuscany Grille. \n\n \n\nWe encourage new members\, new employees and current members looking for a "refresher" course to attend this event. Attendees will receive your New Member Packet and plaque\, plus you'll get a detailed presentation of your Chamber member benefits. \n\n \n\nThis orientation is your opportunity to meet Chamber staff\, Board members\, Chamber Ambassadors and fellow new members\, while learning about all the exciting opportunities your Chamber membership offers you!\n\n\n\nTo RSVP\, please email vmcmuchie@DanaPointChamber.com
X-ALT-DESC;FMTTYPE=text/html:<div style="color: rgb(0\, 0\, 152)\; line-height: normal\; font-family: &quot\;Century Gothic&quot\;\, &quot\;ITC Avant Garde&quot\;\, Arial\, Helvetica\, sans-serif\; font-size: 11px\;"><span style="font-family: arial\;"><span style="font-size: 12pt\;"><span style="color: rgb(0\, 0\, 0)\;">Join us for a New Member Orientation on the first Wednesday of every other month\, from 5:00-6:00pm at&nbsp\;</span><a href="http://www.briorestaurant.com/" linktype="1" rel="nofollow" shape="rect" style="color: rgb(0\, 0\, 144)\; font-weight: bold\;" target="_blank" track="on"><span style="color: rgb(0\, 0\, 0)\;">Brio Tuscany Grille</span></a><span style="color: rgb(0\, 0\, 0)\;">.&nbsp\;</span></span></span></div>\n\n<div style="color: rgb(0\, 0\, 152)\; line-height: normal\; font-family: &quot\;Century Gothic&quot\;\, &quot\;ITC Avant Garde&quot\;\, Arial\, Helvetica\, sans-serif\; font-size: 11px\;"><span style="color: rgb(0\, 0\, 0)\;"><span style="font-family: arial\;"><span style="font-size: 12pt\;">&nbsp\;</span></span></span></div>\n\n<div style="color: rgb(0\, 0\, 152)\; line-height: normal\; font-family: &quot\;Century Gothic&quot\;\, &quot\;ITC Avant Garde&quot\;\, Arial\, Helvetica\, sans-serif\; font-size: 11px\;"><span style="color: rgb(0\, 0\, 0)\;"><span style="font-family: arial\;"><span style="font-size: 12pt\;">We encourage new members\, new employees and current members looking for a &quot\;refresher&quot\; course to attend this event. Attendees will receive your New Member Packet and plaque\, plus you&#39\;ll get a detailed presentation of your Chamber member benefits.&nbsp\;</span></span></span></div>\n\n<div style="color: rgb(0\, 0\, 152)\; line-height: normal\; font-family: &quot\;Century Gothic&quot\;\, &quot\;ITC Avant Garde&quot\;\, Arial\, Helvetica\, sans-serif\; font-size: 11px\;">&nbsp\;</div>\n\n<div style="color: rgb(0\, 0\, 152)\; line-height: normal\; font-family: &quot\;Century Gothic&quot\;\, &quot\;ITC Avant Garde&quot\;\, Arial\, Helvetica\, sans-serif\; font-size: 11px\;"><span style="color: rgb(0\, 0\, 0)\;"><span style="font-family: arial\;"><span style="font-size: 12pt\;">This orientation is your opportunity to meet Chamber staff\, Board members\, Chamber Ambassadors and fellow new members\, while learning about all the exciting opportunities your Chamber membership offers you!<br />\n<br />\n<u><strong>To RSVP\, please email vmcmuchie<a href="mailto:a@DanaPointChamber.com">@DanaPointChamber.com</a></strong></u></span></span></span></div>\n
LOCATION:Brio Tuscany Grille - 24050 Camino del Avion\, Dana Point
UID:e.2189.1465
SEQUENCE:3
DTSTAMP:20260421T214638Z
URL:https://business.danapointchamber.com/events/details/member-orientation-11-04-2015-1465
END:VEVENT

END:VCALENDAR
