BEGIN:VCALENDAR
VERSION:2.0
PRODID:-//ChamberMaster//Event Calendar 2.0//EN
METHOD:PUBLISH
X-PUBLISHED-TTL:P3D
REFRESH-INTERVAL:P3D
CALSCALE:GREGORIAN
BEGIN:VEVENT
DTSTART;VALUE=DATE:20150525
DTEND;VALUE=DATE:20150526
TRANSP:TRANSPARENT
X-MICROSOFT-CDO-ALLDAYEVENT:TRUE
SUMMARY:Memorial Day
DESCRIPTION:City Offices\, Chamber Offices\, DP Library\, CUSD schools all closed
X-ALT-DESC;FMTTYPE=text/html:City Offices\, Chamber Offices\, DP Library\, CUSD schools all closed
LOCATION:
UID:e.2189.2597
SEQUENCE:3
DTSTAMP:20260423T221223Z
URL:https://business.danapointchamber.com/events/details/memorial-day-05-25-2015-2597
END:VEVENT

END:VCALENDAR
