BEGIN:VCALENDAR
VERSION:2.0
PRODID:-//ChamberMaster//Event Calendar 2.0//EN
METHOD:PUBLISH
X-PUBLISHED-TTL:P3D
REFRESH-INTERVAL:P3D
CALSCALE:GREGORIAN
BEGIN:VEVENT
DTSTART:20260509T170000Z
DTEND:20260509T230000Z
X-MICROSOFT-CDO-ALLDAYEVENT:FALSE
SUMMARY:Modern Makers Mart - Mother's Day Edition
DESCRIPTION:Shop harborside at the annual Mother's Day themed Modern Makers Mart at Dana Point Harbor on Saturday\, May 9 from 10A   4P. Support local artisans\, enjoy live music\, and more. Find us at our Bump Out Park location near the West Basin and explore more than 50 local vendors at Bump Out Park. The day will feature berry-themed treats\, live music\, photo ops\, and a kids craft station.\n\nBicycling and Walking Highly Recommended!
X-ALT-DESC;FMTTYPE=text/html:<p><span style="font-size:18px\;"><span style="color:#000000\;"><span style="font-family:verdana\;">Shop harborside at the annual Mother&rsquo\;s Day themed Modern Makers Mart at Dana Point Harbor on&nbsp\;<strong>Saturday\, May 9&nbsp\;from 10A &ndash\; 4P</strong>. Support local artisans\, enjoy live music\, and more. Find us at our&nbsp\;<strong>Bump Out Park&nbsp\;</strong>location&nbsp\;near the West Basin and explore</span></span><span style="color: rgb(64\, 64\, 65)\; font-family: brandon-grotesque\;">&nbsp\;<span style="font-family:verdana\;">more than 50 local vendors at Bump Out Park. The day will feature berry-themed treats\, live music\, photo ops\, and a kids craft station.</span></span></span></p>\n\n<p><span style="font-size:18px\;"><span style="color:#000000\;"><span style="font-family:verdana\;">Bicycling and Walking Highly Recommended!</span></span></span></p>\n
LOCATION:Bump Out Park 24354 Dana Point Harbor Dr Dana Point\, CA 92629
UID:e.2189.17552
SEQUENCE:3
DTSTAMP:20260421T083506Z
URL:https://business.danapointchamber.com/events/details/modern-makers-mart-mother-s-day-edition-17552
END:VEVENT

END:VCALENDAR
