BEGIN:VCALENDAR
VERSION:2.0
PRODID:-//ChamberMaster//Event Calendar 2.0//EN
METHOD:PUBLISH
X-PUBLISHED-TTL:P3D
REFRESH-INTERVAL:P3D
CALSCALE:GREGORIAN
BEGIN:VEVENT
DTSTART:20180210T160000Z
DTEND:20180210T200000Z
X-MICROSOFT-CDO-ALLDAYEVENT:FALSE
SUMMARY:Monarch Beach Resort Member Tournament Series Individual Stroke Play
DESCRIPTION:
X-ALT-DESC;FMTTYPE=text/html:
LOCATION:
UID:e.2189.6045
SEQUENCE:3
DTSTAMP:20260424T233545Z
URL:https://business.danapointchamber.com/events/details/monarch-beach-resort-member-tournament-series-individual-stroke-play-6045
END:VEVENT

END:VCALENDAR
