BEGIN:VCALENDAR
VERSION:2.0
PRODID:-//ChamberMaster//Event Calendar 2.0//EN
METHOD:PUBLISH
X-PUBLISHED-TTL:P3D
REFRESH-INTERVAL:P3D
CALSCALE:GREGORIAN
BEGIN:VEVENT
DTSTART:20160823T203000Z
DTEND:20160824T000000Z
X-MICROSOFT-CDO-ALLDAYEVENT:FALSE
SUMMARY:Montessori Liquidation Sale
DESCRIPTION:The Montessori School at 24292 Del Prado (Cross St. Blue Lantern) will be closing it's doors after 25 years. All Montessori School material (laminator machine\, refrigerators\, adult desk\, playground equipment\, art\, bookcases\, shelving\, children tables and chairs\, bookracks\, and more!) will be sold by the pile or by the box. Please bring your own boxes. There is an overwhelming amount of things to see. Everyone will be given an area to sort their pile. When you are finished you will be given a price that will be unbelievable. It all has to go in one week. Call for an appointment as soon as possible to ensure it does not get picked over before you arrive.
X-ALT-DESC;FMTTYPE=text/html:The Montessori School at 24292 Del Prado (Cross St. Blue Lantern) will be closing it&#39\;s doors after 25 years. All Montessori School material (laminator machine\, refrigerators\, adult desk\, playground equipment\, art\, bookcases\, shelving\, children tables and chairs\, bookracks\, and more!) will be sold by the pile or by the box. Please bring your own boxes. There is an overwhelming amount of things to see. Everyone will be given an area to sort their pile. When you are finished you will be given a price that will be unbelievable. It all has to go in one week. <strong>Call for an appointment</strong> as soon as possible to ensure it does not get picked over before you arrive.
LOCATION:Broderick Montessori School 24292 Del Prado Ave. Dana Point\, CA 92629
UID:e.2189.4884
SEQUENCE:3
DTSTAMP:20260426T032813Z
URL:https://business.danapointchamber.com/events/details/montessori-liquidation-sale-08-23-2016-4884
END:VEVENT

END:VCALENDAR
