BEGIN:VCALENDAR
VERSION:2.0
PRODID:-//ChamberMaster//Event Calendar 2.0//EN
METHOD:PUBLISH
X-PUBLISHED-TTL:P3D
REFRESH-INTERVAL:P3D
CALSCALE:GREGORIAN
BEGIN:VEVENT
DTSTART:20161125T030000Z
DTEND:20161126T060000Z
X-MICROSOFT-CDO-ALLDAYEVENT:FALSE
SUMMARY:Moonlight Madness at Outlets at San Clemente
DESCRIPTION:THANKSGIVING DAY\, 7:00 PM   MIDNIGHT BLACK FRIDAY\, 7:00 AM   10:00 PM CENTER-WIDE SAVINGS We're kicking off the holiday shopping season with our 2nd Annual Moonlight Madness Sale! After a day of eating turkey\, cranberry sauce and pumpkin pie\, watching football and spending time together\, families are invited to continue their celebrations with Black Friday deals\, door-busters\, and tremendous savings. We invite you to partake in our wide selection of deals and holiday savings on top of already amazing prices. Thanksgiving Night Silent Disco The DJ will be spinning the night away during this fun and popular music experience. We'll keep the party going with incredible deals\, exclusive savings and a ton of reasons to celebrate the most exciting shopping days of the year. More details to come. Save the date\, and remember\, the party starts at 7 PM!
X-ALT-DESC;FMTTYPE=text/html:THANKSGIVING DAY\, 7:00 PM &ndash\; MIDNIGHT BLACK FRIDAY\, 7:00 AM &ndash\; 10:00 PM CENTER-WIDE SAVINGS We&rsquo\;re kicking off the holiday shopping season with our 2nd Annual Moonlight Madness Sale! After a day of eating turkey\, cranberry sauce and pumpkin pie\, watching football and spending time together\, families are invited to continue their celebrations with Black Friday deals\, door-busters\, and tremendous savings. We invite you to partake in our wide selection of deals and holiday savings on top of already amazing prices. Thanksgiving Night Silent Disco The DJ will be spinning the night away during this fun and popular music experience. We&rsquo\;ll keep the party going with incredible deals\, exclusive savings and a ton of reasons to celebrate the most exciting shopping days of the year. More details to come. Save the date\, and remember\, the party starts at 7 PM!
LOCATION:Outlets at San Clemente 101 W. Avenida Vista Hermosa San Clemente\, CA 92672
UID:e.2189.4898
SEQUENCE:3
DTSTAMP:20260421T195808Z
URL:https://business.danapointchamber.com/events/details/moonlight-madness-at-outlets-at-san-clemente-4898
END:VEVENT

END:VCALENDAR
