BEGIN:VCALENDAR
VERSION:2.0
PRODID:-//ChamberMaster//Event Calendar 2.0//EN
METHOD:PUBLISH
X-PUBLISHED-TTL:P3D
REFRESH-INTERVAL:P3D
CALSCALE:GREGORIAN
BEGIN:VEVENT
DTSTART:20160820T010000Z
DTEND:20160820T040000Z
X-MICROSOFT-CDO-ALLDAYEVENT:FALSE
SUMMARY:Music Through the Decades
DESCRIPTION:Former Phoenix news anchor\, Mike Chamberlin\, comes to THE Bookstore to take you on a trip down Memory Lane with stories and music in acclaimed "Music Through the Decades" show.  $15 - RSVP: (949) 493-2688.  6:30 pm Reception / 7:00 pm Concert.  PLEASE ADD our MULTICULTURAL ARTS SERIES (MAS) House Concerts to the concert line-up on your calendar and save the date (the 3rd Friday of the month) for these must-attend events.
X-ALT-DESC;FMTTYPE=text/html:Former Phoenix news anchor\, Mike Chamberlin\, comes to <em><strong>THE</strong></em><strong> Bookstore</strong>&nbsp\;to take you on a trip down Memory Lane with&nbsp\;stories and music&nbsp\;in acclaimed <em><strong><span style="color:#990000\;">&quot\;Music Through the Decades&quot\;</span></strong></em>&nbsp\;show.&nbsp\; <strong>$15 - RSVP: <a href="tel:%28949%29%20493-2688" target="_blank" value="+19494932688">(949) 493-2688</a></strong>.&nbsp\; 6:30 pm Reception / 7:00 pm Concert.&nbsp\; PLEASE ADD our MULTICULTURAL ARTS SERIES (MAS) <strong><span style="color:#990000\;">House Concerts </span></strong>to the&nbsp\;concert line-up on your calendar and save the date (the <strong><span style="color:#990000\;">3rd Friday of the month</span></strong><span style="color:black\;">)</span> for these must-attend events. &nbsp\;
LOCATION:The Bookstore- Friends of the Library San Juan Capistrano 31495- A El Camino Real San Juan Capistrano\, CA 92675
UID:e.2189.4871
SEQUENCE:3
DTSTAMP:20260419T201523Z
URL:https://business.danapointchamber.com/events/details/music-through-the-decades-08-19-2016-4871
END:VEVENT

END:VCALENDAR
