BEGIN:VCALENDAR
VERSION:2.0
PRODID:-//ChamberMaster//Event Calendar 2.0//EN
METHOD:PUBLISH
X-PUBLISHED-TTL:P3D
REFRESH-INTERVAL:P3D
CALSCALE:GREGORIAN
BEGIN:VEVENT
DTSTART:20150221T170000Z
DTEND:20150221T180000Z
X-MICROSOFT-CDO-ALLDAYEVENT:FALSE
SUMMARY:Nature Interpretive Center History Walk
DESCRIPTION:History Walk begins at the Nature Interpretive Center. The City of Dana Point Nature Interpretive Center is a destination where the public can discover the rich history of the Dana Point Headlands and learn the natural history of this iconic area.\n\n\n\nThis walk explores the history of the area and is approximately 2 hours.  History Tours occur on the third Saturday of each month and have rotating themes.  It is a docent led tour that covers approximately 1.5 miles in distance.
X-ALT-DESC;FMTTYPE=text/html:<span style="font-size:12px\;"><span style="font-family:arial\;">History Walk begins at the Nature Interpretive Center. The City of Dana Point Nature Interpretive Center is a destination where the public can discover the rich history of the Dana Point Headlands and learn the natural history of this iconic area.<br />\n<br />\n<span style="color: rgb(123\, 115\, 87)\; line-height: 20px\; background-color: rgb(242\, 234\, 200)\;">This walk explores the history of the area and is approximately 2 hours.&nbsp\; History Tours occur on the third&nbsp\;Saturday of each month and have rotating themes.&nbsp\; It is a docent led tour that covers approximately 1.5 miles in distance. &nbsp\;</span></span></span>
LOCATION:34558 Scenic Drive\, Dana Point\, CA 92629
UID:e.2189.1900
SEQUENCE:3
DTSTAMP:20260424T063245Z
URL:https://business.danapointchamber.com/events/details/nature-interpretive-center-history-walk-02-21-2015-1900
END:VEVENT

END:VCALENDAR
