BEGIN:VCALENDAR
VERSION:2.0
PRODID:-//ChamberMaster//Event Calendar 2.0//EN
METHOD:PUBLISH
X-PUBLISHED-TTL:P3D
REFRESH-INTERVAL:P3D
CALSCALE:GREGORIAN
BEGIN:VEVENT
DTSTART:20150614T020000Z
DTEND:20150614T030000Z
X-MICROSOFT-CDO-ALLDAYEVENT:FALSE
SUMMARY:Nature Interpretive Walk\, Interpretive Center
DESCRIPTION:The Interpretive Walk begins at the Nature Interpretive Center. The City of Dana Point Nature Interpretive Center is a destination where the public can discover the history and beauty of the Dana Point Headlands.
X-ALT-DESC;FMTTYPE=text/html:The Interpretive Walk begins at the Nature Interpretive Center. The City of Dana Point Nature Interpretive Center is a destination where the public can discover the history and beauty of the Dana Point Headlands.
LOCATION:34557 Scenic Drive\, Dana Point\, CA 92629
UID:e.2189.2604
SEQUENCE:3
DTSTAMP:20260422T160553Z
URL:https://business.danapointchamber.com/events/details/nature-interpretive-walk-interpretive-center-06-13-2015-2604
END:VEVENT

END:VCALENDAR
